BEGIN:VCALENDAR
VERSION:2.0
PRODID:-//Community Health Resource Center - ECPv6.6.4.2//NONSGML v1.0//EN
CALSCALE:GREGORIAN
METHOD:PUBLISH
X-ORIGINAL-URL:https://chrcsf.org
X-WR-CALDESC:Events for Community Health Resource Center
REFRESH-INTERVAL;VALUE=DURATION:PT1H
X-Robots-Tag:noindex
X-PUBLISHED-TTL:PT1H
BEGIN:VTIMEZONE
TZID:UTC
BEGIN:STANDARD
TZOFFSETFROM:+0000
TZOFFSETTO:+0000
TZNAME:UTC
DTSTART:20190101T000000
END:STANDARD
END:VTIMEZONE
BEGIN:VEVENT
DTSTART;TZID=UTC:20190626T163000
DTEND;TZID=UTC:20190626T180000
DTSTAMP:20260422T053711
CREATED:20190419T182124Z
LAST-MODIFIED:20190501T223833Z
UID:6808-1561566600-1561572000@chrcsf.org
SUMMARY:Your Kidneys and You (w/ free glucose & blood pressure screening)
DESCRIPTION:Presenters: Patty McCormac\, RN (National Kidney Foundation) & Jason Mousel\, MS\, RD \nThis workshop will review how to maintain kidney health\, risk factors for developing chronic kidney disease (CKD)\, and how to manage each stage of CKD. A registered dietitian will discuss how nutrition intervention can be beneficial at any stage of kidney disease. A transplant recipient will also share their experience. Free event\, $10 suggested donation \n \n\n\n\nFree glucose and blood pressure screenings will take place before and after the presentation \nPlease call 415-923-3155 or click here to register.
URL:https://chrcsf.org/event/your-kidneys-and-you-w-free-glucose-blood-pressure-screening/
END:VEVENT
END:VCALENDAR