BEGIN:VCALENDAR
VERSION:2.0
PRODID:-//Community Health Resource Center - ECPv6.6.4.2//NONSGML v1.0//EN
CALSCALE:GREGORIAN
METHOD:PUBLISH
X-ORIGINAL-URL:https://chrcsf.org
X-WR-CALDESC:Events for Community Health Resource Center
REFRESH-INTERVAL;VALUE=DURATION:PT1H
X-Robots-Tag:noindex
X-PUBLISHED-TTL:PT1H
BEGIN:VTIMEZONE
TZID:UTC
BEGIN:STANDARD
TZOFFSETFROM:+0000
TZOFFSETTO:+0000
TZNAME:UTC
DTSTART:20190101T000000
END:STANDARD
END:VTIMEZONE
BEGIN:VEVENT
DTSTART;TZID=UTC:20190725T150000
DTEND;TZID=UTC:20190725T163000
DTSTAMP:20260422T040247
CREATED:20190419T182930Z
LAST-MODIFIED:20190501T224308Z
UID:6811-1564066800-1564072200@chrcsf.org
SUMMARY:Healthy Aging- Part Three: Aging and Emotional Well-being
DESCRIPTION:This series will provide insight into the aging process\, and provide participants with important information relating to safe physical activity strategies\, nutrition recommendations\, and emotional well-being. Free event\, $10 suggested donation \nThe series will span three dates in July (11\, 18\, 25); participants are encouraged to attend all three events. \n\n\n\nWeek Three: Aging & Emotional Well-being \nPresenter:  Scott Plymale\, PhD\, LCSW\n\n\n\nThis session will focus on the aging process relating to emotional support\, social support\, and overall well-being. A licensed clinical social worker will discuss coping skills and empowering tools for individuals and caregivers. Local resources will also be reviewed. \nPlease call 415-923-3155 or click here to register.
URL:https://chrcsf.org/event/healthy-aging-part-three-aging-and-emotional-well-being/
CATEGORIES:Group Class,Lecture,Workshop
END:VEVENT
END:VCALENDAR