BEGIN:VCALENDAR
VERSION:2.0
PRODID:-//Community Health Resource Center - ECPv6.6.4.2//NONSGML v1.0//EN
CALSCALE:GREGORIAN
METHOD:PUBLISH
X-ORIGINAL-URL:https://chrcsf.org
X-WR-CALDESC:Events for Community Health Resource Center
REFRESH-INTERVAL;VALUE=DURATION:PT1H
X-Robots-Tag:noindex
X-PUBLISHED-TTL:PT1H
BEGIN:VTIMEZONE
TZID:UTC
BEGIN:STANDARD
TZOFFSETFROM:+0000
TZOFFSETTO:+0000
TZNAME:UTC
DTSTART:20190101T000000
END:STANDARD
END:VTIMEZONE
BEGIN:VEVENT
DTSTART;TZID=UTC:20190924T150000
DTEND;TZID=UTC:20190924T163000
DTSTAMP:20260422T003422
CREATED:20190823T202337Z
LAST-MODIFIED:20190823T202905Z
UID:6886-1569337200-1569342600@chrcsf.org
SUMMARY:Stroke Prevention & Education
DESCRIPTION:Stroke is a leading cause of death and long-term disability in the United States and affects people of all ages and backgrounds. This lecture will focus on prevention\, risk factors\, early detection\, and treatment of stroke. Stroke survivors\, and others at risk are encouraged to attend. \nPresenter: Mike Ke\, MD (CPMC Comprehensive Stroke Care) \n*Free blood pressure screenings will be provided before and after the presentation \nTo register\, click on our Eventbrite link below!
URL:https://chrcsf.org/event/stroke-prevention-education-4/
CATEGORIES:Group Class,Health Screening,Lecture
ATTACH;FMTTYPE=image/png:https://chrcsf.org/wp-content/uploads/Stroke.png
END:VEVENT
END:VCALENDAR