BEGIN:VCALENDAR
VERSION:2.0
PRODID:-//Community Health Resource Center - ECPv6.6.4.2//NONSGML v1.0//EN
CALSCALE:GREGORIAN
METHOD:PUBLISH
X-WR-CALNAME:Community Health Resource Center
X-ORIGINAL-URL:https://chrcsf.org
X-WR-CALDESC:Events for Community Health Resource Center
REFRESH-INTERVAL;VALUE=DURATION:PT1H
X-Robots-Tag:noindex
X-PUBLISHED-TTL:PT1H
BEGIN:VTIMEZONE
TZID:UTC
BEGIN:STANDARD
TZOFFSETFROM:+0000
TZOFFSETTO:+0000
TZNAME:UTC
DTSTART:20190101T000000
END:STANDARD
END:VTIMEZONE
BEGIN:VEVENT
DTSTART;TZID=UTC:20191114T140000
DTEND;TZID=UTC:20191114T153000
DTSTAMP:20260421T200119
CREATED:20190830T220908Z
LAST-MODIFIED:20190830T220908Z
UID:6918-1573740000-1573745400@chrcsf.org
SUMMARY:Grocery Store Tour: Carbohydrates
DESCRIPTION:Grocery shopping should not be confusing. Learn how to navigate the grocery store by joining us for a Grocery Store Tour. A registered dietitian will guide you aisle by aisle to provide tips on grocery shopping and meal planning. \nOn this 90-min tour\, you will learn how to read labels\, count carbs\, create balanced meals\, and identify added sugars. you will also be able to ask the dietitian about your food and nutrition-related questions. Learn to better manage your pre-diabetes or type 2 diabetes by shopping smarter. \nPresenter: Elizabeth Thomas\, MS\, RDN \n*Fee: HMO Brown & Toland members pay no fee. All others $60 per tour. Advance payment/enrollment required. Six-participants limit. Feel free to register through Evenbrite and our office will contact you to confirm!
URL:https://chrcsf.org/event/grocery-store-tour-carbohydrates-4/
LOCATION:Safeway on Webster\, 1335 Webster Street\, San Francisco\, CA\, 94115\, United States
CATEGORIES:Group Class
ATTACH;FMTTYPE=image/jpeg:https://chrcsf.org/wp-content/uploads/grocery-store.jpg
END:VEVENT
END:VCALENDAR