BEGIN:VCALENDAR
VERSION:2.0
PRODID:-//Community Health Resource Center - ECPv6.6.4.2//NONSGML v1.0//EN
CALSCALE:GREGORIAN
METHOD:PUBLISH
X-ORIGINAL-URL:https://chrcsf.org
X-WR-CALDESC:Events for Community Health Resource Center
REFRESH-INTERVAL;VALUE=DURATION:PT1H
X-Robots-Tag:noindex
X-PUBLISHED-TTL:PT1H
BEGIN:VTIMEZONE
TZID:UTC
BEGIN:STANDARD
TZOFFSETFROM:+0000
TZOFFSETTO:+0000
TZNAME:UTC
DTSTART:20190101T000000
END:STANDARD
END:VTIMEZONE
BEGIN:VEVENT
DTSTART;TZID=UTC:20191205T120000
DTEND;TZID=UTC:20191205T130000
DTSTAMP:20260421T181850
CREATED:20181207T221748Z
LAST-MODIFIED:20181207T221748Z
UID:6738-1575547200-1575550800@chrcsf.org
SUMMARY:Stroke Survivor Support Group
DESCRIPTION:This group is designed to aid the recovery of stroke survivors by providing a safe and supportive atmosphere where individuals are able to share their experiences. Individuals at any stage of recovery are invited to attend. \nSupport groups are open to individuals\, caregivers\, and families seeking advice and support. To register for a group or for more information\, call 415-923-3155 or email cpmcchrc@sutterhealth.org. All groups take place in San Francisco. No cost to attend. \nFirst Thursdays\, 12 – 1 pm \n2100 Webster Street\, Suite 119 – Board Room \n 
URL:https://chrcsf.org/event/stroke-survivor-support-group-22/
CATEGORIES:Support Group
END:VEVENT
END:VCALENDAR