BEGIN:VCALENDAR
VERSION:2.0
PRODID:-//Community Health Resource Center - ECPv6.6.4.2//NONSGML v1.0//EN
CALSCALE:GREGORIAN
METHOD:PUBLISH
X-ORIGINAL-URL:https://chrcsf.org
X-WR-CALDESC:Events for Community Health Resource Center
REFRESH-INTERVAL;VALUE=DURATION:PT1H
X-Robots-Tag:noindex
X-PUBLISHED-TTL:PT1H
BEGIN:VTIMEZONE
TZID:UTC
BEGIN:STANDARD
TZOFFSETFROM:+0000
TZOFFSETTO:+0000
TZNAME:UTC
DTSTART:20200101T000000
END:STANDARD
END:VTIMEZONE
BEGIN:VEVENT
DTSTART;TZID=UTC:20200213T133000
DTEND;TZID=UTC:20200213T150000
DTSTAMP:20260421T153247
CREATED:20191213T191402Z
LAST-MODIFIED:20191213T191903Z
UID:7002-1581600600-1581606000@chrcsf.org
SUMMARY:Maintain Your Balance
DESCRIPTION:If you struggle with balance or have fallen due to lack of balance\, please come join us for a class on Maintaining Balance!\n\n\n\n\n\n\n\n\nFalls are the leading cause of injury in older adults. This interactive workshop provides education and balance screening for older adults who want to reduce their risk of falling. Come learn strategies to prevent falls and help maintain your independence! \nCPMC Davies Campus\, Castro & Duboce Streets                                                                                                            South Tower\, Level B Conference Room                                                                                                                          (you may also enter through North Tower and take the elevator down to Level B) \nInstructor: Michelle Spicher\, PT\, DPT\, OCS (CPMC Physical Therapy Department) \nYou may register through this Eventbrite link (also available below) or by calling our office at 415-923-3155 during operating hours\, M-F: 8am – 11:45am\, 1pm – 5pm. You can also email us to register at cpmcchrc@sutterhealth.org
URL:https://chrcsf.org/event/maintain-your-balance-3/
LOCATION:CPMC Davies Campus\, Castro & Duboce Streets\, San Francisco\, CA\, 94114\, United States
CATEGORIES:Group Class,Lecture,Workshop
ATTACH;FMTTYPE=image/png:https://chrcsf.org/wp-content/uploads/balance_man.png
END:VEVENT
END:VCALENDAR