BEGIN:VCALENDAR
VERSION:2.0
PRODID:-//Community Health Resource Center - ECPv6.6.4.2//NONSGML v1.0//EN
CALSCALE:GREGORIAN
METHOD:PUBLISH
X-WR-CALNAME:Community Health Resource Center
X-ORIGINAL-URL:https://chrcsf.org
X-WR-CALDESC:Events for Community Health Resource Center
REFRESH-INTERVAL;VALUE=DURATION:PT1H
X-Robots-Tag:noindex
X-PUBLISHED-TTL:PT1H
BEGIN:VTIMEZONE
TZID:UTC
BEGIN:STANDARD
TZOFFSETFROM:+0000
TZOFFSETTO:+0000
TZNAME:UTC
DTSTART:20200101T000000
END:STANDARD
END:VTIMEZONE
BEGIN:VEVENT
DTSTART;TZID=UTC:20200513T160000
DTEND;TZID=UTC:20200513T173000
DTSTAMP:20260423T173142
CREATED:20200409T054953Z
LAST-MODIFIED:20200410T231145Z
UID:7078-1589385600-1589391000@chrcsf.org
SUMMARY:Stroke Education & Screening
DESCRIPTION:CPMC Pacific Heights Campus\n2333 Buchanan Street\,\nFirst Floor\, Enright Room \n  \nPresenter: CPMC Comprehensive Stroke Care Center Neurologist \nStroke is a leading cause of death and long-term disability in the United States and affects people of all ages and backgrounds. This lecture will focus on prevention\, risk factors\, early detection\, and treatment of stroke. Stroke survivors\, caregivers\, and others at risk are encouraged to attend. \n*Blood pressure screening available for live event only. \n\nTo register and attend virtually: computer with camera and internet connectivity required \n\nFill this form anytime before the class: https://us04web.zoom.us/meeting/register/vJIpd-6orjooHINzf2D8yu3GbZeJOnbBxQ\nClick the unique link in your confirmation email at the time of the lecture!\nHere’s an example of what it looks like in your email.\n\nOR \nVisit zoom.us/join and enter the ID\, 164-070-012 \nIf this is your first time joining us virtually\, don’t worry! This is new to us\, too.\nCheck out Zoom’s video demonstrations before the lecture starts so you have a sense of what to expect for a smooth and engaging workshop! \n\nTo register and attend in person:\n \nVisit: https://www.eventbrite.com/e/stroke-awareness-education-tickets-101934787694 \n                  OR \nContact us.\nWalk-ins are welcome\, but when you RSVP we can better ensure your spot and lecture materials.\n\n  \nOffice Hours/Contact Information\nM-F\, 8 – 11:45 am\, 1 – 5 pm\n415-923-3155 | cpmcchrc@sutterhealth.org
URL:https://chrcsf.org/event/stroke-education-screening/
LOCATION:CPMC Pacific Campus\, 2333 Buchanan Street\, San Francisco\, CA\, 94115\, United States
CATEGORIES:Group Class,Health Screening,Lecture
ATTACH;FMTTYPE=image/png:https://chrcsf.org/wp-content/uploads/Stroke.png
END:VEVENT
END:VCALENDAR