BEGIN:VCALENDAR
VERSION:2.0
PRODID:-//Community Health Resource Center - ECPv6.6.4.2//NONSGML v1.0//EN
CALSCALE:GREGORIAN
METHOD:PUBLISH
X-ORIGINAL-URL:https://chrcsf.org
X-WR-CALDESC:Events for Community Health Resource Center
REFRESH-INTERVAL;VALUE=DURATION:PT1H
X-Robots-Tag:noindex
X-PUBLISHED-TTL:PT1H
BEGIN:VTIMEZONE
TZID:UTC
BEGIN:STANDARD
TZOFFSETFROM:+0000
TZOFFSETTO:+0000
TZNAME:UTC
DTSTART:20200101T000000
END:STANDARD
END:VTIMEZONE
BEGIN:VEVENT
DTSTART;TZID=UTC:20201001T120000
DTEND;TZID=UTC:20201001T130000
DTSTAMP:20260424T055921
CREATED:20200902T161549Z
LAST-MODIFIED:20200902T161549Z
UID:7283-1601553600-1601557200@chrcsf.org
SUMMARY:Stroke Survivor Support Group
DESCRIPTION:This group is designed to aid the recovery of stroke survivors by providing a safe and supportive atmosphere where individuals are able to share their experiences. Individuals at any stage of recovery are invited to attend. \nDate\, Time: First Thursdays\n12 – 1:00 pm \nLocation: Zoom \nTo be admitted\, call 415-923-3155 or email cpmcchrc@sutterhealth.org. \nFee: No cost to attend \nGroup is moderated by CHRC licensed clinical social worker.
URL:https://chrcsf.org/event/stroke-survivor-support-group-25/
LOCATION:Virtual Meeting Room\, N/A
CATEGORIES:Support Group
ATTACH;FMTTYPE=image/jpeg:https://chrcsf.org/wp-content/uploads/hold-hand.jpg
END:VEVENT
END:VCALENDAR