BEGIN:VCALENDAR
VERSION:2.0
PRODID:-//Community Health Resource Center - ECPv6.6.4.2//NONSGML v1.0//EN
CALSCALE:GREGORIAN
METHOD:PUBLISH
X-WR-CALNAME:Community Health Resource Center
X-ORIGINAL-URL:https://chrcsf.org
X-WR-CALDESC:Events for Community Health Resource Center
REFRESH-INTERVAL;VALUE=DURATION:PT1H
X-Robots-Tag:noindex
X-PUBLISHED-TTL:PT1H
BEGIN:VTIMEZONE
TZID:UTC
BEGIN:STANDARD
TZOFFSETFROM:+0000
TZOFFSETTO:+0000
TZNAME:UTC
DTSTART:20200101T000000
END:STANDARD
END:VTIMEZONE
BEGIN:VEVENT
DTSTART;TZID=UTC:20201117T160000
DTEND;TZID=UTC:20201117T173000
DTSTAMP:20260424T041521
CREATED:20200825T014359Z
LAST-MODIFIED:20200825T014359Z
UID:7241-1605628800-1605634200@chrcsf.org
SUMMARY:Lung Cancer Awareness Month: Insights & Information
DESCRIPTION:Doctor Benson Chen is a pulmonologist with expertise in lung cancer screening and lung nodule management. Dr. Chen will provide information for diagnostic and staging evaluations for patients with lung nodules and suspected lung cancer. He will also provide an overview of lung cancer treatment. Participants will have opportunity to post questions throughout the lecture and a chance for discussion during the Q&A portion at the end. \nPresenter: Benson Chen\, MD (Pulmonary Disease and Critical Care Medicine\, CPMC) \nRegister\n  \nOr\, visit zoom.com/join and enter ID 894 8482 2157. \nEmail nguyentk@sutterhealth.org for questions regarding registration.
URL:https://chrcsf.org/event/lung-cancer-awareness-month-insights-information/
LOCATION:CHRC Zoom Webinar
CATEGORIES:Group Class,Lecture,Workshop
ATTACH;FMTTYPE=image/png:https://chrcsf.org/wp-content/uploads/lung-cancer.png
END:VEVENT
END:VCALENDAR