BEGIN:VCALENDAR
VERSION:2.0
PRODID:-//Community Health Resource Center - ECPv6.6.4.2//NONSGML v1.0//EN
CALSCALE:GREGORIAN
METHOD:PUBLISH
X-WR-CALNAME:Community Health Resource Center
X-ORIGINAL-URL:https://chrcsf.org
X-WR-CALDESC:Events for Community Health Resource Center
REFRESH-INTERVAL;VALUE=DURATION:PT1H
X-Robots-Tag:noindex
X-PUBLISHED-TTL:PT1H
BEGIN:VTIMEZONE
TZID:UTC
BEGIN:STANDARD
TZOFFSETFROM:+0000
TZOFFSETTO:+0000
TZNAME:UTC
DTSTART:20200101T000000
END:STANDARD
END:VTIMEZONE
BEGIN:VEVENT
DTSTART;TZID=UTC:20201119T173000
DTEND;TZID=UTC:20201119T190000
DTSTAMP:20260424T040633
CREATED:20200825T015728Z
LAST-MODIFIED:20200825T015813Z
UID:7243-1605807000-1605812400@chrcsf.org
SUMMARY:Lifestyle as Medicine: You Are Your Primary Care Provider
DESCRIPTION:This presentation combines the expertise of 3 providers: a doctor with decades of integrative health experience\, and two clinical nutritionists with specialties in eating disorders and holistic health. Together\, the three will provide their specialized perspectives on the prevalence of trendy “quick-fixes” that claim to heal us or transform our health. The speakers will address the forces that drive us to unhealthy habits and give tips on how we can work towards sustaining healthy change through small steps. \nPresenters: Ricki Pollycove\, MD (San Francisco Integrative Gynecology) \n Sabine Haake\, MA\, RD (CHRC) \n Jason Mousel\, MS\, RD (CHRC) \nRegister\n  \nOr\, visit zoom.com/join and enter ID 854 8018 6928. \nEmail nguyentk@sutterhealth.org for questions regarding registration.
URL:https://chrcsf.org/event/lifestyle-as-medicine-you-are-your-primary-care-provider/
LOCATION:CHRC Zoom Webinar
CATEGORIES:Group Class,Lecture,Workshop
ATTACH;FMTTYPE=image/png:https://chrcsf.org/wp-content/uploads/lifestyle-as-medicine.png
END:VEVENT
END:VCALENDAR