BEGIN:VCALENDAR
VERSION:2.0
PRODID:-//Community Health Resource Center - ECPv6.6.4.2//NONSGML v1.0//EN
CALSCALE:GREGORIAN
METHOD:PUBLISH
X-ORIGINAL-URL:https://chrcsf.org
X-WR-CALDESC:Events for Community Health Resource Center
REFRESH-INTERVAL;VALUE=DURATION:PT1H
X-Robots-Tag:noindex
X-PUBLISHED-TTL:PT1H
BEGIN:VTIMEZONE
TZID:UTC
BEGIN:STANDARD
TZOFFSETFROM:+0000
TZOFFSETTO:+0000
TZNAME:UTC
DTSTART:20210101T000000
END:STANDARD
END:VTIMEZONE
BEGIN:VEVENT
DTSTART;TZID=UTC:20210302T160000
DTEND;TZID=UTC:20210302T173000
DTSTAMP:20260423T140114
CREATED:20201229T011601Z
LAST-MODIFIED:20210204T183012Z
UID:7372-1614700800-1614706200@chrcsf.org
SUMMARY:Nutritional Cooking Demonstration
DESCRIPTION:Presenter: Laura Bull\, Dietetic Intern (University of California\, San Francisco) \nThe presenter will provide an overview of a nutritionally balanced meal along with grocery shopping tips. She will share and demonstrate a recipe in which she breaks down its nutritional value. She will also discuss tips that help in portioning and storing prepared food and ingredients. \nQuestions throughout the demonstration are encouraged! \nRegister
URL:https://chrcsf.org/event/nutritional-cooking-demonstration/
LOCATION:CHRC Zoom Webinar
CATEGORIES:Group Class,Workshop
ATTACH;FMTTYPE=image/jpeg:https://chrcsf.org/wp-content/uploads/bonebrothchickenstock-articleLarge.jpg
END:VEVENT
END:VCALENDAR