BEGIN:VCALENDAR
VERSION:2.0
PRODID:-//Community Health Resource Center - ECPv6.6.4.2//NONSGML v1.0//EN
CALSCALE:GREGORIAN
METHOD:PUBLISH
X-WR-CALNAME:Community Health Resource Center
X-ORIGINAL-URL:https://chrcsf.org
X-WR-CALDESC:Events for Community Health Resource Center
REFRESH-INTERVAL;VALUE=DURATION:PT1H
X-Robots-Tag:noindex
X-PUBLISHED-TTL:PT1H
BEGIN:VTIMEZONE
TZID:UTC
BEGIN:STANDARD
TZOFFSETFROM:+0000
TZOFFSETTO:+0000
TZNAME:UTC
DTSTART:20210101T000000
END:STANDARD
END:VTIMEZONE
BEGIN:VEVENT
DTSTART;TZID=UTC:20210311T153000
DTEND;TZID=UTC:20210311T170000
DTSTAMP:20260421T133008
CREATED:20201229T012037Z
LAST-MODIFIED:20210224T232800Z
UID:7374-1615476600-1615482000@chrcsf.org
SUMMARY:Investigating Joint Pain
DESCRIPTION:Presenter: Ishita Aggarwal\, MD (Pacific Rheumatology Associates) \nIf you suffer from significant joint pain and swelling\, join Doctor Ishita Aggarwal to learn about your chronic pain and how to better manage it. This lecture will cover common causes and treatments\, specifically reviewing conditions such as osteoarthritis\, rheumatoid arthritis\, psoriatic arthritis\, and gout. \nRegister
URL:https://chrcsf.org/event/investigating-joint-pain-3/
LOCATION:CHRC Zoom Webinar
CATEGORIES:Lecture
ATTACH;FMTTYPE=image/png:https://chrcsf.org/wp-content/uploads/hand-pain.png
END:VEVENT
END:VCALENDAR