BEGIN:VCALENDAR
VERSION:2.0
PRODID:-//Community Health Resource Center - ECPv6.6.4.2//NONSGML v1.0//EN
CALSCALE:GREGORIAN
METHOD:PUBLISH
X-WR-CALNAME:Community Health Resource Center
X-ORIGINAL-URL:https://chrcsf.org
X-WR-CALDESC:Events for Community Health Resource Center
REFRESH-INTERVAL;VALUE=DURATION:PT1H
X-Robots-Tag:noindex
X-PUBLISHED-TTL:PT1H
BEGIN:VTIMEZONE
TZID:America/Los_Angeles
BEGIN:DAYLIGHT
TZOFFSETFROM:-0800
TZOFFSETTO:-0700
TZNAME:PDT
DTSTART:20220313T100000
END:DAYLIGHT
BEGIN:STANDARD
TZOFFSETFROM:-0700
TZOFFSETTO:-0800
TZNAME:PST
DTSTART:20221106T090000
END:STANDARD
END:VTIMEZONE
BEGIN:VEVENT
DTSTART;TZID=America/Los_Angeles:20220318T093000
DTEND;TZID=America/Los_Angeles:20220318T113000
DTSTAMP:20260422T113333
CREATED:20220105T232648Z
LAST-MODIFIED:20220105T232648Z
UID:7870-1647595800-1647603000@chrcsf.org
SUMMARY:FREE Health Screening: Mission Neighborhood Center(MNC)
DESCRIPTION:FREE health screenings are offered at the following San Francisco locations on a walk-in basis\nto all community members. Tests include total cholesterol\, glucose\, and blood pressure.\nResults are ready within 10 minutes. Wait times may vary.
URL:https://chrcsf.org/event/free-health-screening-mission-neighborhood-centermnc-2/
LOCATION:Mission Neighborhood Centers\, 362 Capp Street\, San Francisco\, 94110\, United States
CATEGORIES:Health Screening
ATTACH;FMTTYPE=image/png:https://chrcsf.org/wp-content/uploads/2022-Calendar-Images-11.png
END:VEVENT
END:VCALENDAR