BEGIN:VCALENDAR
VERSION:2.0
PRODID:-//Community Health Resource Center - ECPv6.6.4.2//NONSGML v1.0//EN
CALSCALE:GREGORIAN
METHOD:PUBLISH
X-WR-CALNAME:Community Health Resource Center
X-ORIGINAL-URL:https://chrcsf.org
X-WR-CALDESC:Events for Community Health Resource Center
REFRESH-INTERVAL;VALUE=DURATION:PT1H
X-Robots-Tag:noindex
X-PUBLISHED-TTL:PT1H
BEGIN:VTIMEZONE
TZID:America/Los_Angeles
BEGIN:DAYLIGHT
TZOFFSETFROM:-0800
TZOFFSETTO:-0700
TZNAME:PDT
DTSTART:20220313T100000
END:DAYLIGHT
BEGIN:STANDARD
TZOFFSETFROM:-0700
TZOFFSETTO:-0800
TZNAME:PST
DTSTART:20221106T090000
END:STANDARD
END:VTIMEZONE
BEGIN:VEVENT
DTSTART;TZID=America/Los_Angeles:20220713T150000
DTEND;TZID=America/Los_Angeles:20220713T163000
DTSTAMP:20260422T211316
CREATED:20220603T180744Z
LAST-MODIFIED:20220712T195343Z
UID:7939-1657724400-1657729800@chrcsf.org
SUMMARY:Community Trauma: Coping with Current Events
DESCRIPTION:Speaker: Adriana Panting\, PhD (CPMC Doctoral Psychology Fellow)\n  \n\nRegister\n  \nJoin CHRC as we host post-doctoral fellow\, Adriana Panting\, for a presentation on how to cope with current events. \nReceive helpful strategies for balancing your desire to be informed and managing overwhelm caused by tragedies of recent events. Get ideas for setting boundaries and begin to feel better while staying informed. \nRelaxation and coping strategies will also be practiced in this session! \n  \nZoom ID: 882 1045 1480
URL:https://chrcsf.org/event/health-psychology-lecture/
LOCATION:CHRC Zoom Webinar
CATEGORIES:Lecture
ATTACH;FMTTYPE=image/png:https://chrcsf.org/wp-content/uploads/silhouette-head-x2.png
END:VEVENT
END:VCALENDAR