BEGIN:VCALENDAR
VERSION:2.0
PRODID:-//Community Health Resource Center - ECPv6.6.4.2//NONSGML v1.0//EN
CALSCALE:GREGORIAN
METHOD:PUBLISH
X-WR-CALNAME:Community Health Resource Center
X-ORIGINAL-URL:https://chrcsf.org
X-WR-CALDESC:Events for Community Health Resource Center
REFRESH-INTERVAL;VALUE=DURATION:PT1H
X-Robots-Tag:noindex
X-PUBLISHED-TTL:PT1H
BEGIN:VTIMEZONE
TZID:UTC
BEGIN:STANDARD
TZOFFSETFROM:+0000
TZOFFSETTO:+0000
TZNAME:UTC
DTSTART:20220101T000000
END:STANDARD
TZID:America/Los_Angeles
BEGIN:DAYLIGHT
TZOFFSETFROM:-0800
TZOFFSETTO:-0700
TZNAME:PDT
DTSTART:20220313T100000
END:DAYLIGHT
BEGIN:STANDARD
TZOFFSETFROM:-0700
TZOFFSETTO:-0800
TZNAME:PST
DTSTART:20221106T090000
END:STANDARD
END:VTIMEZONE
BEGIN:VEVENT
DTSTART;TZID=UTC:20220914T080000
DTEND;TZID=UTC:20220914T170000
DTSTAMP:20260424T085526
CREATED:20220812T002310Z
LAST-MODIFIED:20220812T002310Z
UID:8010-1663142400-1663174800@chrcsf.org
SUMMARY:Health Screening @ Pacific Professional Building
DESCRIPTION:Free health screenings are offered on a walk-in basis and is open to all community members. Tests provided include blood glucose\, total cholesterol\, and blood pressure.
URL:https://chrcsf.org/event/health-screening-pacific-professional-building-2/
LOCATION:Pacific Professional Building\, 2100 Webster Street\, San Francisco\, CA\, 94115\, United States
CATEGORIES:Health Screening
ATTACH;FMTTYPE=image/png:https://chrcsf.org/wp-content/uploads/fingerstick.png
END:VEVENT
BEGIN:VEVENT
DTSTART;TZID=America/Los_Angeles:20220914T143000
DTEND;TZID=America/Los_Angeles:20220914T160000
DTSTAMP:20260424T085526
CREATED:20220901T004457Z
LAST-MODIFIED:20220901T005243Z
UID:8078-1663165800-1663171200@chrcsf.org
SUMMARY:Eating Healthy for Your Heart
DESCRIPTION:Speaker: Stephanie Amir (SFSU Dietetic Internship Program)\nDiscussion Panel: Stephanie Amir and Elena Zidaru\, MA\, RD\n  \nAccording to the Centers for Disease Control and Prevention\, “heart disease is the leading cause of death in the United States.” This Zoom webinar and discussion will address how changing dietary habits and learning new approaches to eating can improve one’s cardiovascular health. \n  \nTo join this free Zoom Webinar presentation\, contact Grace Hulleza with Kimochi Inc. at ghulleza@kimochi-inc.org or (415) 931-2294 ext. 125. \n  \nThis presentation is hosted by Kimochi Inc. and is delivered by Community Health Resource Center.  \nKimochi Inc. is located in San Francisco at 1715 Buchanan Street. Its office hours are Monday to Friday 9:00AM – 5:00PM. Kimochi Inc. can be contacted at kimochikai@kimochi-inc.org or (415) 931-2294.
URL:https://chrcsf.org/event/kimochi-inc-hearthealth/
LOCATION:Kimochi Inc. Zoom Meeting
CATEGORIES:Workshop
ATTACH;FMTTYPE=image/jpeg:https://chrcsf.org/wp-content/uploads/diabetes-food-choices.jpg
ORGANIZER;CN="Kimochi Inc.":MAILTO:kimochikai@kimochi-inc.org
END:VEVENT
BEGIN:VEVENT
DTSTART;TZID=America/Los_Angeles:20220914T153000
DTEND;TZID=America/Los_Angeles:20220914T170000
DTSTAMP:20260424T085526
CREATED:20220906T223842Z
LAST-MODIFIED:20220906T223907Z
UID:8110-1663169400-1663174800@chrcsf.org
SUMMARY:Long-Term Care Information Session
DESCRIPTION:Speaker: Lee Abel\, CLTC\nWith longer life comes a higher risk of needing extended care. What’s your plan to cover the high costs of being cared for at home or in a facility? This educational seminar will help you come up with a viable plan. We’ll look at the costs of care and ways to pay for it\, including Medicare\, Medi-Cal\, self-insuring\, and the various types of long-term care insurance\, including hybrid life/long term care policies. \n  \nRegister\n  \n 
URL:https://chrcsf.org/event/ltcinfo2022/
LOCATION:CHRC Zoom Webinar
CATEGORIES:Workshop
ATTACH;FMTTYPE=image/png:https://chrcsf.org/wp-content/uploads/LTC.png
END:VEVENT
END:VCALENDAR