BEGIN:VCALENDAR
VERSION:2.0
PRODID:-//Community Health Resource Center - ECPv6.6.4.2//NONSGML v1.0//EN
CALSCALE:GREGORIAN
METHOD:PUBLISH
X-ORIGINAL-URL:https://chrcsf.org
X-WR-CALDESC:Events for Community Health Resource Center
REFRESH-INTERVAL;VALUE=DURATION:PT1H
X-Robots-Tag:noindex
X-PUBLISHED-TTL:PT1H
BEGIN:VTIMEZONE
TZID:UTC
BEGIN:STANDARD
TZOFFSETFROM:+0000
TZOFFSETTO:+0000
TZNAME:UTC
DTSTART:20220101T000000
END:STANDARD
END:VTIMEZONE
BEGIN:VEVENT
DTSTART;TZID=UTC:20221006T113000
DTEND;TZID=UTC:20221006T123000
DTSTAMP:20260423T002010
CREATED:20220816T191744Z
LAST-MODIFIED:20220816T191744Z
UID:8059-1665055800-1665059400@chrcsf.org
SUMMARY:Tai Chi for Arthritis\, Level 1
DESCRIPTION:Teacher: Diana Lara\nDiana is a professional dancer\, somatic educator\, and tai-chi teacher. She has been teaching movement for 25 years\, and she enjoys teaching seniors.\n  \nThis program follows Sun style Tai Chi modified for people with arthritis by the Tai Chi for Health Institute. It is designed to improve movement\, flexibility\, and balance. (Bilingual Spanish/English). The program is 10-weeks long\, occurring on Tuesdays and Thursdays between 9/6/22 and 11/10/22. \n\nTo register\, contact: Diana Lara dlararodgers@onlok.org or (415) 550-2209\n  \nThe Tai Chi for Health programs are supported by the Centers for Disease Control and Prevention and the Arthritis Foundation.
URL:https://chrcsf.org/event/tai-chi-for-arthritis-level-1-8/
LOCATION:On Lok 30th Street Senior Center
CATEGORIES:Group Class
ATTACH;FMTTYPE=image/png:https://chrcsf.org/wp-content/uploads/seniors-exercise-park.png
ORGANIZER;CN="On Lok 30th Street Senior Center":MAILTO:dlararodgers@onlok.org
END:VEVENT
END:VCALENDAR