BEGIN:VCALENDAR
VERSION:2.0
PRODID:-//Community Health Resource Center - ECPv6.6.4.2//NONSGML v1.0//EN
CALSCALE:GREGORIAN
METHOD:PUBLISH
X-WR-CALNAME:Community Health Resource Center
X-ORIGINAL-URL:https://chrcsf.org
X-WR-CALDESC:Events for Community Health Resource Center
REFRESH-INTERVAL;VALUE=DURATION:PT1H
X-Robots-Tag:noindex
X-PUBLISHED-TTL:PT1H
BEGIN:VTIMEZONE
TZID:America/Los_Angeles
BEGIN:DAYLIGHT
TZOFFSETFROM:-0800
TZOFFSETTO:-0700
TZNAME:PDT
DTSTART:20220313T100000
END:DAYLIGHT
BEGIN:STANDARD
TZOFFSETFROM:-0700
TZOFFSETTO:-0800
TZNAME:PST
DTSTART:20221106T090000
END:STANDARD
END:VTIMEZONE
BEGIN:VEVENT
DTSTART;TZID=America/Los_Angeles:20221013T100000
DTEND;TZID=America/Los_Angeles:20221013T120000
DTSTAMP:20260423T015411
CREATED:20220816T181625Z
LAST-MODIFIED:20220816T181625Z
UID:8028-1665655200-1665662400@chrcsf.org
SUMMARY:Health Screening @ MNC Bayview Hub
DESCRIPTION:Free health screenings are offered on a walk-in basis and is open to all community members. Tests provided include blood glucose\, total cholesterol\, and blood pressure.
URL:https://chrcsf.org/event/health-screening-mnc-bayview-hub-2/
LOCATION:MNC Bayview Hub\, 1329 Evans Ave\, San Francisco\, CA\, 94124\, United States
CATEGORIES:Health Screening
ATTACH;FMTTYPE=image/png:https://chrcsf.org/wp-content/uploads/2022-Calendar-Images-11.png
END:VEVENT
BEGIN:VEVENT
DTSTART;TZID=America/Los_Angeles:20221013T113000
DTEND;TZID=America/Los_Angeles:20221013T123000
DTSTAMP:20260423T015411
CREATED:20220816T191938Z
LAST-MODIFIED:20220816T191938Z
UID:8061-1665660600-1665664200@chrcsf.org
SUMMARY:Tai Chi for Arthritis\, Level 1
DESCRIPTION:Teacher: Diana Lara\nDiana is a professional dancer\, somatic educator\, and tai-chi teacher. She has been teaching movement for 25 years\, and she enjoys teaching seniors.\n  \nThis program follows Sun style Tai Chi modified for people with arthritis by the Tai Chi for Health Institute. It is designed to improve movement\, flexibility\, and balance. (Bilingual Spanish/English). The program is 10-weeks long\, occurring on Tuesdays and Thursdays between 9/6/22 and 11/10/22. \n\nTo register\, contact: Diana Lara dlararodgers@onlok.org or (415) 550-2209\n  \nThe Tai Chi for Health programs are supported by the Centers for Disease Control and Prevention and the Arthritis Foundation.
URL:https://chrcsf.org/event/tai-chi-for-arthritis-level-1-10/
LOCATION:On Lok 30th Street Senior Center
CATEGORIES:Group Class
ATTACH;FMTTYPE=image/png:https://chrcsf.org/wp-content/uploads/seniors-exercise-park.png
ORGANIZER;CN="On Lok 30th Street Senior Center":MAILTO:dlararodgers@onlok.org
END:VEVENT
END:VCALENDAR