BEGIN:VCALENDAR
VERSION:2.0
PRODID:-//Community Health Resource Center - ECPv6.6.4.2//NONSGML v1.0//EN
CALSCALE:GREGORIAN
METHOD:PUBLISH
X-WR-CALNAME:Community Health Resource Center
X-ORIGINAL-URL:https://chrcsf.org
X-WR-CALDESC:Events for Community Health Resource Center
REFRESH-INTERVAL;VALUE=DURATION:PT1H
X-Robots-Tag:noindex
X-PUBLISHED-TTL:PT1H
BEGIN:VTIMEZONE
TZID:America/Los_Angeles
BEGIN:DAYLIGHT
TZOFFSETFROM:-0800
TZOFFSETTO:-0700
TZNAME:PDT
DTSTART:20220313T100000
END:DAYLIGHT
BEGIN:STANDARD
TZOFFSETFROM:-0700
TZOFFSETTO:-0800
TZNAME:PST
DTSTART:20221106T090000
END:STANDARD
END:VTIMEZONE
BEGIN:VEVENT
DTSTART;TZID=America/Los_Angeles:20221102T110000
DTEND;TZID=America/Los_Angeles:20221102T130000
DTSTAMP:20260424T140728
CREATED:20220816T182015Z
LAST-MODIFIED:20220816T182015Z
UID:8030-1667386800-1667394000@chrcsf.org
SUMMARY:Health Screening @ Chinatown YMCA
DESCRIPTION:Free health screenings are offered on a walk-in basis and is open to all community members. Tests provided include blood glucose\, total cholesterol\, and blood pressure.
URL:https://chrcsf.org/event/health-screening-chinatown-ymca-6/
LOCATION:Chinatown YMCA\, 855 Sacramento St.\, San Francisco\, CA\, 94108\, United States
CATEGORIES:Health Screening
ATTACH;FMTTYPE=image/png:https://chrcsf.org/wp-content/uploads/2022-Calendar-Images-11.png
END:VEVENT
BEGIN:VEVENT
DTSTART;TZID=America/Los_Angeles:20221102T153000
DTEND;TZID=America/Los_Angeles:20221102T170000
DTSTAMP:20260424T140728
CREATED:20220811T235448Z
LAST-MODIFIED:20220811T235448Z
UID:7997-1667403000-1667408400@chrcsf.org
SUMMARY:Diet for Diabetes and Fatty Liver
DESCRIPTION:Speaker: Nicole Vas\, RD\, CDCES (Alta Bates Summit Diabetes Center)\nThis is an encore presentation to the “Managing Diabetes: Practical Modern Tips for Blood Sugar Control” that Community Health Resource Center hosted registered dietitian and diabetes educator\, Nicole Vas\, for in June 2022. This presentation will delve deeper into foods recommended for those with diabetes\, along with guidelines for treating fatty liver through diet. \n  \nRegister\n  \n 
URL:https://chrcsf.org/event/diet-for-diabetes-and-fatty-liver/
LOCATION:CHRC Zoom Webinar
CATEGORIES:Group Class,Lecture,Workshop
ATTACH;FMTTYPE=image/jpeg:https://chrcsf.org/wp-content/uploads/diabetes-food-choices.jpg
END:VEVENT
END:VCALENDAR