BEGIN:VCALENDAR
VERSION:2.0
PRODID:-//Community Health Resource Center - ECPv6.6.4.2//NONSGML v1.0//EN
CALSCALE:GREGORIAN
METHOD:PUBLISH
X-ORIGINAL-URL:https://chrcsf.org
X-WR-CALDESC:Events for Community Health Resource Center
REFRESH-INTERVAL;VALUE=DURATION:PT1H
X-Robots-Tag:noindex
X-PUBLISHED-TTL:PT1H
BEGIN:VTIMEZONE
TZID:America/Los_Angeles
BEGIN:DAYLIGHT
TZOFFSETFROM:-0800
TZOFFSETTO:-0700
TZNAME:PDT
DTSTART:20220313T100000
END:DAYLIGHT
BEGIN:STANDARD
TZOFFSETFROM:-0700
TZOFFSETTO:-0800
TZNAME:PST
DTSTART:20221106T090000
END:STANDARD
END:VTIMEZONE
BEGIN:VEVENT
DTSTART;TZID=America/Los_Angeles:20221228T093000
DTEND;TZID=America/Los_Angeles:20221228T113000
DTSTAMP:20260420T161641
CREATED:20220816T183911Z
LAST-MODIFIED:20220816T183911Z
UID:8044-1672219800-1672227000@chrcsf.org
SUMMARY:Health Screening @ Pacific Professional Building
DESCRIPTION:Free health screenings are offered on a walk-in basis and is open to all community members. Tests provided include blood glucose\, total cholesterol\, and blood pressure.
URL:https://chrcsf.org/event/health-screening-pacific-professional-building-8/
LOCATION:Pacific Professional Building\, 2100 Webster Street\, San Francisco\, CA\, 94115\, United States
CATEGORIES:Health Screening
ATTACH;FMTTYPE=image/png:https://chrcsf.org/wp-content/uploads/2022-Calendar-Images-11.png
END:VEVENT
END:VCALENDAR