BEGIN:VCALENDAR
VERSION:2.0
PRODID:-//Community Health Resource Center - ECPv6.6.4.2//NONSGML v1.0//EN
CALSCALE:GREGORIAN
METHOD:PUBLISH
X-WR-CALNAME:Community Health Resource Center
X-ORIGINAL-URL:https://chrcsf.org
X-WR-CALDESC:Events for Community Health Resource Center
REFRESH-INTERVAL;VALUE=DURATION:PT1H
X-Robots-Tag:noindex
X-PUBLISHED-TTL:PT1H
BEGIN:VTIMEZONE
TZID:America/Los_Angeles
BEGIN:DAYLIGHT
TZOFFSETFROM:-0800
TZOFFSETTO:-0700
TZNAME:PDT
DTSTART:20200308T100000
END:DAYLIGHT
BEGIN:STANDARD
TZOFFSETFROM:-0700
TZOFFSETTO:-0800
TZNAME:PST
DTSTART:20201101T090000
END:STANDARD
END:VTIMEZONE
BEGIN:VEVENT
DTSTART;TZID=America/Los_Angeles:20200902T130000
DTEND;TZID=America/Los_Angeles:20200902T150000
DTSTAMP:20260421T022556
CREATED:20200825T023859Z
LAST-MODIFIED:20200825T024252Z
UID:7251-1599051600-1599058800@chrcsf.org
SUMMARY:Drop-in Health Screening: 2100 Webster
DESCRIPTION:Free health screenings are available to the community on a drop-in basis at Professional Building (2100 Webster). \nDue to the COVID-19 pandemic\, screenings remain unavailable at Chinatown YMCA\, Mission YMCA\, and Stonestown YMCA. \nPlease check chrcsf.org/events periodically for updates. \nEach event will now offer all 3 screenings tests: blood glucose\, cholesterol\, and blood pressure. \nHealth screenings are made possible by a generous contribution from Chevron.
URL:https://chrcsf.org/event/drop-in-health-screening-2100-webster/
LOCATION:Professional Building\, 2100 Webster Street\, Suite 100\, San Francisco\, CA\, 94115\, United States
CATEGORIES:Health Screening
ATTACH;FMTTYPE=image/png:https://chrcsf.org/wp-content/uploads/fingerstick.png
END:VEVENT
END:VCALENDAR