BEGIN:VCALENDAR
VERSION:2.0
PRODID:-//Community Health Resource Center - ECPv6.6.4.2//NONSGML v1.0//EN
CALSCALE:GREGORIAN
METHOD:PUBLISH
X-WR-CALNAME:Community Health Resource Center
X-ORIGINAL-URL:https://chrcsf.org
X-WR-CALDESC:Events for Community Health Resource Center
REFRESH-INTERVAL;VALUE=DURATION:PT1H
X-Robots-Tag:noindex
X-PUBLISHED-TTL:PT1H
BEGIN:VTIMEZONE
TZID:UTC
BEGIN:STANDARD
TZOFFSETFROM:+0000
TZOFFSETTO:+0000
TZNAME:UTC
DTSTART:20200101T000000
END:STANDARD
END:VTIMEZONE
BEGIN:VEVENT
DTSTART;TZID=UTC:20200918T100000
DTEND;TZID=UTC:20200918T120000
DTSTAMP:20260421T003150
CREATED:20200825T024700Z
LAST-MODIFIED:20200921T145913Z
UID:7275-1600423200-1600430400@chrcsf.org
SUMMARY:Drop-In Health Screening: MNC
DESCRIPTION:Free health screenings are available to the community on a drop-in basis at Mission Neighborhood Centers (MNC) \nDue to the COVID-19 pandemic\, screenings remain unavailable at Chinatown YMCA\, Mission YMCA\, and Stonestown YMCA. \nPlease check chrcsf.org/events periodically for updates. \nEach date will now offer all 3 screenings tests: blood glucose\, cholesterol\, and blood pressure. \nHealth screenings are made possible by a generous contribution from Chevron. \nOn this date\, there will also be FREE flu shots provided at Mission Neighborhood Centers.
URL:https://chrcsf.org/event/drop-in-health-screening-mnc/
LOCATION:Mission Neighborhood Centers\, 362 Capp Street\, San Francisco\, 94110\, United States
CATEGORIES:Health Screening
ATTACH;FMTTYPE=image/png:https://chrcsf.org/wp-content/uploads/fingerstick.png
END:VEVENT
END:VCALENDAR