BEGIN:VCALENDAR
VERSION:2.0
PRODID:-//Community Health Resource Center - ECPv6.6.4.2//NONSGML v1.0//EN
CALSCALE:GREGORIAN
METHOD:PUBLISH
X-WR-CALNAME:Community Health Resource Center
X-ORIGINAL-URL:https://chrcsf.org
X-WR-CALDESC:Events for Community Health Resource Center
REFRESH-INTERVAL;VALUE=DURATION:PT1H
X-Robots-Tag:noindex
X-PUBLISHED-TTL:PT1H
BEGIN:VTIMEZONE
TZID:UTC
BEGIN:STANDARD
TZOFFSETFROM:+0000
TZOFFSETTO:+0000
TZNAME:UTC
DTSTART:20190101T000000
END:STANDARD
END:VTIMEZONE
BEGIN:VEVENT
DTSTART;TZID=UTC:20190604T180000
DTEND;TZID=UTC:20190604T193000
DTSTAMP:20260422T040130
CREATED:20190501T172033Z
LAST-MODIFIED:20190501T172033Z
UID:6822-1559671200-1559676600@chrcsf.org
SUMMARY:Mindful Eating Class Series
DESCRIPTION:Eating while feeling stress can impact our health in an ‘unsavory’ way and leave us feeling out of control and unhealthy. Join the series to experience how mindful eating can change the way you look at food and have an enjoyable eating experience. An experienced registered dietitian will support participants to process feelings around eating and learn steps to successfully shift attitudes and thoughts. In this class we will each bring our own dinner and practice eating mindfully in a judgment-free environment. \nClass limited to 6 people. *Intake interview required prior to start date. HMO Brown & Toland members pay no fee. All others $60 per class. Registration for full series is required; unable to accommodate registration for a single class. Advance payment/enrollment required. \nPlease call 415-923-3155 to register. \nPresenter: Erica Eilenberg\, MPH\, RD
URL:https://chrcsf.org/event/mindful-eating-class-series-10/
CATEGORIES:Group Class
END:VEVENT
BEGIN:VEVENT
DTSTART;TZID=UTC:20190606T120000
DTEND;TZID=UTC:20190606T130000
DTSTAMP:20260422T040130
CREATED:20181207T221316Z
LAST-MODIFIED:20181207T221316Z
UID:6733-1559822400-1559826000@chrcsf.org
SUMMARY:Stroke Survivor Support Group
DESCRIPTION:This group is designed to aid the recovery of stroke survivors by providing a safe and supportive atmosphere where individuals are able to share their experiences. Individuals at any stage of recovery are invited to attend. \nSupport groups are open to individuals\, caregivers\, and families seeking advice and support. To register for a group or for more information\, call 415-923-3155 or email cpmcchrc@sutterhealth.org. All groups take place in San Francisco. No cost to attend. \nFirst Thursdays\, 12 – 1 pm \n2100 Webster Street\, Suite 119 – Board Room \n 
URL:https://chrcsf.org/event/stroke-survivor-support-group-17/
CATEGORIES:Support Group
END:VEVENT
BEGIN:VEVENT
DTSTART;TZID=UTC:20190611T133000
DTEND;TZID=UTC:20190611T150000
DTSTAMP:20260422T040130
CREATED:20190419T181835Z
LAST-MODIFIED:20190501T223632Z
UID:6807-1560259800-1560265200@chrcsf.org
SUMMARY:Delving Deeper Into Hearing Loss
DESCRIPTION:Presenters:  Shu-En A. Lim\, AuD\, CCC-A\, F-AAA & Kenneth Billheimer\, AuD  \n(University of the Pacific Hearing & Balance Center)\n\n\n\nThere’s a lot more to hearing than just the ear. The ear-brain system is responsible for coding and decoding all the sounds in our environment. Learn more about how changes to hearing impacts much more than just not having enough volume. We’ll also discuss new advancements in hearing device technology that aim to help deficits in the ear-brain system\, and allow individuals with hearing loss to maximize their ability to function in varied hearing environments. Free event\, $10 suggested donation \nPlease call 415-923-3155 or click here to register.
URL:https://chrcsf.org/event/delving-deeper-into-hearing-loss/
CATEGORIES:Lecture,Workshop
END:VEVENT
BEGIN:VEVENT
DTSTART;TZID=UTC:20190620T173000
DTEND;TZID=UTC:20190620T190000
DTSTAMP:20260422T040130
CREATED:20190419T183822Z
LAST-MODIFIED:20190419T183822Z
UID:6812-1561051800-1561057200@chrcsf.org
SUMMARY:Grocery Store Tour (Topic: Sodium)
DESCRIPTION:**Please call 415-923-3155 to register. Registration required.** \nPresenter: Elizabeth Thomas\, MS\, RDN \nGrocery shopping should not be confusing. Learn how to navigate the store by joining us for a Grocery Store Tour. A registered dietitian will guide you aisle by aisle to provide tips on grocery shopping and meal planning. \nOn this 90-minute tour\, you will learn how to read labels and identify the sodium content in products to help lower blood pressure and overall sodium intake. Learn about recommended sodium intake\, and low-sodium strategies for shopping and cooking. \n*Fee: HMO Brown & Toland members pay no fee. All others $60 per tour. \nAdvance payment/enrollment required. 6 participant limit.
URL:https://chrcsf.org/event/grocery-store-tour-topic-sodium/
CATEGORIES:Group Class
END:VEVENT
BEGIN:VEVENT
DTSTART;TZID=UTC:20190626T163000
DTEND;TZID=UTC:20190626T180000
DTSTAMP:20260422T040130
CREATED:20190419T182124Z
LAST-MODIFIED:20190501T223833Z
UID:6808-1561566600-1561572000@chrcsf.org
SUMMARY:Your Kidneys and You (w/ free glucose & blood pressure screening)
DESCRIPTION:Presenters: Patty McCormac\, RN (National Kidney Foundation) & Jason Mousel\, MS\, RD \nThis workshop will review how to maintain kidney health\, risk factors for developing chronic kidney disease (CKD)\, and how to manage each stage of CKD. A registered dietitian will discuss how nutrition intervention can be beneficial at any stage of kidney disease. A transplant recipient will also share their experience. Free event\, $10 suggested donation \n \n\n\n\nFree glucose and blood pressure screenings will take place before and after the presentation \nPlease call 415-923-3155 or click here to register.
URL:https://chrcsf.org/event/your-kidneys-and-you-w-free-glucose-blood-pressure-screening/
END:VEVENT
END:VCALENDAR