BEGIN:VCALENDAR
VERSION:2.0
PRODID:-//Community Health Resource Center - ECPv6.6.4.2//NONSGML v1.0//EN
CALSCALE:GREGORIAN
METHOD:PUBLISH
X-ORIGINAL-URL:https://chrcsf.org
X-WR-CALDESC:Events for Community Health Resource Center
REFRESH-INTERVAL;VALUE=DURATION:PT1H
X-Robots-Tag:noindex
X-PUBLISHED-TTL:PT1H
BEGIN:VTIMEZONE
TZID:UTC
BEGIN:STANDARD
TZOFFSETFROM:+0000
TZOFFSETTO:+0000
TZNAME:UTC
DTSTART:20190101T000000
END:STANDARD
END:VTIMEZONE
BEGIN:VEVENT
DTSTART;TZID=UTC:20190801T120000
DTEND;TZID=UTC:20190801T130000
DTSTAMP:20260422T003343
CREATED:20181207T221413Z
LAST-MODIFIED:20181207T221413Z
UID:6734-1564660800-1564664400@chrcsf.org
SUMMARY:Stroke Survivor Support Group
DESCRIPTION:This group is designed to aid the recovery of stroke survivors by providing a safe and supportive atmosphere where individuals are able to share their experiences. Individuals at any stage of recovery are invited to attend. \nSupport groups are open to individuals\, caregivers\, and families seeking advice and support. To register for a group or for more information\, call 415-923-3155 or email cpmcchrc@sutterhealth.org. All groups take place in San Francisco. No cost to attend. \nFirst Thursdays\, 12 – 1 pm \n2100 Webster Street\, Suite 119 – Board Room \n 
URL:https://chrcsf.org/event/stroke-survivor-support-group-18/
CATEGORIES:Support Group
END:VEVENT
BEGIN:VEVENT
DTSTART;TZID=UTC:20190802T100000
DTEND;TZID=UTC:20190802T120000
DTSTAMP:20260422T003343
CREATED:20190501T175653Z
LAST-MODIFIED:20190501T175653Z
UID:6834-1564740000-1564747200@chrcsf.org
SUMMARY:Health Screening: Blood Pressure
DESCRIPTION:Health screenings offered at community based locations are FREE. Each week offers a different screening type that rotates through glucose\, cholesterol\, and blood pressure. Please note\, CHRC no longer offers BMI screenings. \nA registered nurse will be available to discuss results that fall out of range. \nHealth screenings are made possible by a generous contribution from Chevron.
URL:https://chrcsf.org/event/health-screening-blood-pressure-2/
CATEGORIES:Health Screening
END:VEVENT
BEGIN:VEVENT
DTSTART;TZID=UTC:20190802T100000
DTEND;TZID=UTC:20190802T120000
DTSTAMP:20260422T003343
CREATED:20190501T182026Z
LAST-MODIFIED:20190501T182026Z
UID:6853-1564740000-1564747200@chrcsf.org
SUMMARY:Health Screening: Cholesterol
DESCRIPTION:Health screenings offered at community based locations are FREE. Each week offers a different screening type that rotates through glucose\, cholesterol\, and blood pressure. Please note\, CHRC no longer offers BMI screenings. \nA registered nurse will be available to discuss results that fall out of range. \nHealth screenings are made possible by a generous contribution from Chevron.
URL:https://chrcsf.org/event/health-screening-cholesterol-26/
CATEGORIES:Health Screening
END:VEVENT
BEGIN:VEVENT
DTSTART;TZID=UTC:20190809T094500
DTEND;TZID=UTC:20190809T114500
DTSTAMP:20260422T003343
CREATED:20190501T181310Z
LAST-MODIFIED:20190501T181310Z
UID:6846-1565343900-1565351100@chrcsf.org
SUMMARY:Health Screening: Cholesterol
DESCRIPTION:Health screenings offered at community based locations are FREE. Each week offers a different screening type that rotates through glucose\, cholesterol\, and blood pressure. Please note\, CHRC no longer offers BMI screenings. \nA registered nurse will be available to discuss results that fall out of range. \nHealth screenings are made possible by a generous contribution from Chevron.
URL:https://chrcsf.org/event/health-screening-cholesterol-24/
CATEGORIES:Health Screening
END:VEVENT
BEGIN:VEVENT
DTSTART;TZID=UTC:20190815T173000
DTEND;TZID=UTC:20190815T190000
DTSTAMP:20260422T003343
CREATED:20190501T175427Z
LAST-MODIFIED:20190501T175427Z
UID:6830-1565890200-1565895600@chrcsf.org
SUMMARY:Grocery Store Tour: Cholesterol
DESCRIPTION:Grocery shopping should not be confusing. Learn how to navigate the store by joining us for a Grocery Store Tour. A registered dietitian will guide you aisle by aisle to provide tips on grocery shopping and meal planning. *Fee: HMO Brown & Toland members pay no fee. All others $60 per tour. Advance payment/enrollment required. 6 participant limit. All tours will be held at Safeway: 1335 Webster Street. Please call 415-923-3155 to register.  \nOn this 90-minute tour\, you will learn how to read labels\, understand the difference between healthy and unhealthy fats\, and create balanced meals to promote a heart-healthy diet. You will also be able to ask the dietitian about your food and nutrition related questions. \nPresenter: Elizabeth Thomas\, MS\, RDN
URL:https://chrcsf.org/event/grocery-store-tour-cholesterol/
CATEGORIES:Group Class
END:VEVENT
BEGIN:VEVENT
DTSTART;TZID=UTC:20190816T100000
DTEND;TZID=UTC:20190816T120000
DTSTAMP:20260422T003343
CREATED:20190501T175754Z
LAST-MODIFIED:20190501T175754Z
UID:6835-1565949600-1565956800@chrcsf.org
SUMMARY:Health Screening: Cholesterol
DESCRIPTION:Health screenings offered at community based locations are FREE. Each week offers a different screening type that rotates through glucose\, cholesterol\, and blood pressure. Please note\, CHRC no longer offers BMI screenings. \nA registered nurse will be available to discuss results that fall out of range. \nHealth screenings are made possible by a generous contribution from Chevron.
URL:https://chrcsf.org/event/health-screening-cholesterol-21/
CATEGORIES:Health Screening
END:VEVENT
BEGIN:VEVENT
DTSTART;TZID=UTC:20190816T100000
DTEND;TZID=UTC:20190816T120000
DTSTAMP:20260422T003343
CREATED:20190501T182118Z
LAST-MODIFIED:20190501T182118Z
UID:6854-1565949600-1565956800@chrcsf.org
SUMMARY:Health Screening: Glucose
DESCRIPTION:Health screenings offered at community based locations are FREE. Each week offers a different screening type that rotates through glucose\, cholesterol\, and blood pressure. Please note\, CHRC no longer offers BMI screenings. \nA registered nurse will be available to discuss results that fall out of range. \nHealth screenings are made possible by a generous contribution from Chevron.
URL:https://chrcsf.org/event/health-screening-glucose-31/
CATEGORIES:Health Screening
END:VEVENT
END:VCALENDAR