BEGIN:VCALENDAR
VERSION:2.0
PRODID:-//Community Health Resource Center - ECPv6.6.4.2//NONSGML v1.0//EN
CALSCALE:GREGORIAN
METHOD:PUBLISH
X-ORIGINAL-URL:https://chrcsf.org
X-WR-CALDESC:Events for Community Health Resource Center
REFRESH-INTERVAL;VALUE=DURATION:PT1H
X-Robots-Tag:noindex
X-PUBLISHED-TTL:PT1H
BEGIN:VTIMEZONE
TZID:UTC
BEGIN:STANDARD
TZOFFSETFROM:+0000
TZOFFSETTO:+0000
TZNAME:UTC
DTSTART:20190101T000000
END:STANDARD
END:VTIMEZONE
BEGIN:VEVENT
DTSTART;TZID=UTC:20190905T120000
DTEND;TZID=UTC:20190905T130000
DTSTAMP:20260421T230633
CREATED:20181207T221506Z
LAST-MODIFIED:20181207T221506Z
UID:6735-1567684800-1567688400@chrcsf.org
SUMMARY:Stroke Survivor Support Group
DESCRIPTION:This group is designed to aid the recovery of stroke survivors by providing a safe and supportive atmosphere where individuals are able to share their experiences. Individuals at any stage of recovery are invited to attend. \nSupport groups are open to individuals\, caregivers\, and families seeking advice and support. To register for a group or for more information\, call 415-923-3155 or email cpmcchrc@sutterhealth.org. All groups take place in San Francisco. No cost to attend. \nFirst Thursdays\, 12 – 1 pm \n2100 Webster Street\, Suite 119 – Board Room \n 
URL:https://chrcsf.org/event/stroke-survivor-support-group-19/
CATEGORIES:Support Group
END:VEVENT
BEGIN:VEVENT
DTSTART;TZID=UTC:20190905T180000
DTEND;TZID=UTC:20190905T193000
DTSTAMP:20260421T230633
CREATED:20190823T204059Z
LAST-MODIFIED:20190930T234115Z
UID:6893-1567706400-1567711800@chrcsf.org
SUMMARY:Emotional Eating Support Class (small group)
DESCRIPTION:This is a 12-week small-group program that combines therapeutic meal experience with cognitive behavior work to help participants change the way they look at food and eating in stressful or emotional situations. Participants bring their own dinner and practice mindful eating techniques to distinguish between emotional and physical hunger in a small and judgment-free environment. Participants will take steps to understand the internal and external stressors that trigger disordered eating behavior and begin to develop a nurturing and compassionate relationship with their body with the help of a behavioral specialist. \nThursdays September 5 – November 21 | 6-7:30pm \nPresenter: Sabine Haake\, MBA\, RD \n*Intake interview required prior to start date/ HMO Brown & Toland members pay no fee. All others $60 per class. Registered for full series is required; unable to accommodate registration for a single class.  \n*Advance payment and enrollment are required. Call 415-923-3155 or email cpmcchrc@sutterhealth.org for more information. \nPre-register at Evenbrite  and our office will contact you to confirm! \n  \n  \n 
URL:https://chrcsf.org/event/emotional-eating-support-group-class-small-group/
LOCATION:Professional Building\, 2100 Webster Street\, Suite 100\, San Francisco\, CA\, 94115\, United States
CATEGORIES:Group Class,Support Group
ATTACH;FMTTYPE=image/jpeg:https://chrcsf.org/wp-content/uploads/emotional-eating.jpg
END:VEVENT
BEGIN:VEVENT
DTSTART;TZID=UTC:20190906T100000
DTEND;TZID=UTC:20190906T120000
DTSTAMP:20260421T230633
CREATED:20190501T175907Z
LAST-MODIFIED:20190501T175907Z
UID:6836-1567764000-1567771200@chrcsf.org
SUMMARY:Health Screening: Glucose
DESCRIPTION:Health screenings offered at community based locations are FREE. Each week offers a different screening type that rotates through glucose\, cholesterol\, and blood pressure. Please note\, CHRC no longer offers BMI screenings. \nA registered nurse will be available to discuss results that fall out of range. \nHealth screenings are made possible by a generous contribution from Chevron.
URL:https://chrcsf.org/event/health-screening-glucose-25/
CATEGORIES:Health Screening
END:VEVENT
BEGIN:VEVENT
DTSTART;TZID=UTC:20190913T094500
DTEND;TZID=UTC:20190913T114500
DTSTAMP:20260421T230633
CREATED:20190501T181413Z
LAST-MODIFIED:20190501T181413Z
UID:6847-1568367900-1568375100@chrcsf.org
SUMMARY:Health Screening: Glucose
DESCRIPTION:Health screenings offered at community based locations are FREE. Each week offers a different screening type that rotates through glucose\, cholesterol\, and blood pressure. Please note\, CHRC no longer offers BMI screenings. \nA registered nurse will be available to discuss results that fall out of range. \nHealth screenings are made possible by a generous contribution from Chevron.
URL:https://chrcsf.org/event/health-screening-glucose-28/
CATEGORIES:Health Screening
END:VEVENT
BEGIN:VEVENT
DTSTART;TZID=UTC:20190919T140000
DTEND;TZID=UTC:20190919T153000
DTSTAMP:20260421T230633
CREATED:20190823T214300Z
LAST-MODIFIED:20190823T214300Z
UID:6913-1568901600-1568907000@chrcsf.org
SUMMARY:Grocery Store Tour: Sodium
DESCRIPTION:Grocery shopping should not be confusing. Learn how to navigate the store by joining us for a Grocery Store Tour. A registered dietician will guide you aisle by aisle to provide tips on grocery shopping and meal planning. \nRegistered Dietician: Elizabeth Thomas\, MS\, RDN \n*Fee: HMO Brown % Toland members pay no fee. All others $60/hour. Advance payment/enrollment required. 6 participant limit. \nPre-register through Eventbrite and our office will contact you to confirm!
URL:https://chrcsf.org/event/grocery-store-tour-sodium/
LOCATION:Safeway on Webster\, 1335 Webster Street\, San Francisco\, CA\, 94115\, United States
CATEGORIES:Group Class
ATTACH;FMTTYPE=image/jpeg:https://chrcsf.org/wp-content/uploads/grocery-store.jpg
END:VEVENT
BEGIN:VEVENT
DTSTART;TZID=UTC:20190920T100000
DTEND;TZID=UTC:20190920T120000
DTSTAMP:20260421T230633
CREATED:20190501T180001Z
LAST-MODIFIED:20190501T180001Z
UID:6837-1568973600-1568980800@chrcsf.org
SUMMARY:Health Screening: Blood Pressure
DESCRIPTION:Health screenings offered at community based locations are FREE. Each week offers a different screening type that rotates through glucose\, cholesterol\, and blood pressure. Please note\, CHRC no longer offers BMI screenings. \nA registered nurse will be available to discuss results that fall out of range. \nHealth screenings are made possible by a generous contribution from Chevron.
URL:https://chrcsf.org/event/health-screening-blood-pressure-3/
CATEGORIES:Health Screening
END:VEVENT
BEGIN:VEVENT
DTSTART;TZID=UTC:20190920T100000
DTEND;TZID=UTC:20190920T120000
DTSTAMP:20260421T230633
CREATED:20190501T182208Z
LAST-MODIFIED:20190501T182208Z
UID:6855-1568973600-1568980800@chrcsf.org
SUMMARY:Health Screening: Cholesterol
DESCRIPTION:Health screenings offered at community based locations are FREE. Each week offers a different screening type that rotates through glucose\, cholesterol\, and blood pressure. Please note\, CHRC no longer offers BMI screenings. \nA registered nurse will be available to discuss results that fall out of range. \nHealth screenings are made possible by a generous contribution from Chevron.
URL:https://chrcsf.org/event/health-screening-cholesterol-27/
CATEGORIES:Health Screening
END:VEVENT
BEGIN:VEVENT
DTSTART;TZID=UTC:20190924T150000
DTEND;TZID=UTC:20190924T163000
DTSTAMP:20260421T230633
CREATED:20190823T202337Z
LAST-MODIFIED:20190823T202905Z
UID:6886-1569337200-1569342600@chrcsf.org
SUMMARY:Stroke Prevention & Education
DESCRIPTION:Stroke is a leading cause of death and long-term disability in the United States and affects people of all ages and backgrounds. This lecture will focus on prevention\, risk factors\, early detection\, and treatment of stroke. Stroke survivors\, and others at risk are encouraged to attend. \nPresenter: Mike Ke\, MD (CPMC Comprehensive Stroke Care) \n*Free blood pressure screenings will be provided before and after the presentation \nTo register\, click on our Eventbrite link below!
URL:https://chrcsf.org/event/stroke-prevention-education-4/
CATEGORIES:Group Class,Health Screening,Lecture
ATTACH;FMTTYPE=image/png:https://chrcsf.org/wp-content/uploads/Stroke.png
END:VEVENT
END:VCALENDAR