BEGIN:VCALENDAR
VERSION:2.0
PRODID:-//Community Health Resource Center - ECPv6.6.4.2//NONSGML v1.0//EN
CALSCALE:GREGORIAN
METHOD:PUBLISH
X-ORIGINAL-URL:https://chrcsf.org
X-WR-CALDESC:Events for Community Health Resource Center
REFRESH-INTERVAL;VALUE=DURATION:PT1H
X-Robots-Tag:noindex
X-PUBLISHED-TTL:PT1H
BEGIN:VTIMEZONE
TZID:UTC
BEGIN:STANDARD
TZOFFSETFROM:+0000
TZOFFSETTO:+0000
TZNAME:UTC
DTSTART:20190101T000000
END:STANDARD
END:VTIMEZONE
BEGIN:VEVENT
DTSTART;TZID=UTC:20191003T120000
DTEND;TZID=UTC:20191003T130000
DTSTAMP:20260422T015355
CREATED:20181207T221557Z
LAST-MODIFIED:20181207T221557Z
UID:6736-1570104000-1570107600@chrcsf.org
SUMMARY:Stroke Survivor Support Group
DESCRIPTION:This group is designed to aid the recovery of stroke survivors by providing a safe and supportive atmosphere where individuals are able to share their experiences. Individuals at any stage of recovery are invited to attend. \nSupport groups are open to individuals\, caregivers\, and families seeking advice and support. To register for a group or for more information\, call 415-923-3155 or email cpmcchrc@sutterhealth.org. All groups take place in San Francisco. No cost to attend. \nFirst Thursdays\, 12 – 1 pm \n2100 Webster Street\, Suite 119 – Board Room \n 
URL:https://chrcsf.org/event/stroke-survivor-support-group-20/
CATEGORIES:Support Group
END:VEVENT
BEGIN:VEVENT
DTSTART;TZID=UTC:20191004T100000
DTEND;TZID=UTC:20191004T120000
DTSTAMP:20260422T015355
CREATED:20190501T180059Z
LAST-MODIFIED:20190501T180059Z
UID:6838-1570183200-1570190400@chrcsf.org
SUMMARY:Health Screening: Cholesterol
DESCRIPTION:Health screenings offered at community based locations are FREE. Each week offers a different screening type that rotates through glucose\, cholesterol\, and blood pressure. Please note\, CHRC no longer offers BMI screenings. \nA registered nurse will be available to discuss results that fall out of range. \nHealth screenings are made possible by a generous contribution from Chevron.
URL:https://chrcsf.org/event/health-screening-cholesterol-22/
CATEGORIES:Health Screening
END:VEVENT
BEGIN:VEVENT
DTSTART;TZID=UTC:20191004T100000
DTEND;TZID=UTC:20191004T120000
DTSTAMP:20260422T015355
CREATED:20190501T182300Z
LAST-MODIFIED:20190501T182300Z
UID:6856-1570183200-1570190400@chrcsf.org
SUMMARY:Health Screening: Glucose
DESCRIPTION:Health screenings offered at community based locations are FREE. Each week offers a different screening type that rotates through glucose\, cholesterol\, and blood pressure. Please note\, CHRC no longer offers BMI screenings. \nA registered nurse will be available to discuss results that fall out of range. \nHealth screenings are made possible by a generous contribution from Chevron.
URL:https://chrcsf.org/event/health-screening-glucose-32/
CATEGORIES:Health Screening
END:VEVENT
BEGIN:VEVENT
DTSTART;TZID=UTC:20191009T060000
DTEND;TZID=UTC:20191009T193000
DTSTAMP:20260422T015355
CREATED:20190823T210001Z
LAST-MODIFIED:20190930T234321Z
UID:6897-1570600800-1570649400@chrcsf.org
SUMMARY:Mindful Eating Class Series
DESCRIPTION:Eating while feeling stress or during emotional situations can impact our health in an ‘unsavory’ way and can often leave us feeling out of control and unhealthy. \nJoin our 4-week class series to experience how mindful eating can change the way you look at food and have an enjoyable eating experience. An experienced registered dietitian will support participants to process feelings around eating in various situations and learn steps to successfully shift attitudes and thoughts. In this class we will each bring our own dinner and practice eating mindfully in a small judgment-free environment. In addition\, this class will aid clients to take food risks\, plan successful eating strategies and implement changes to improve health. \nWednesdays October 9 – October 30 | 6-7:30pm \nPresenter: Jason Mousel\, MS\, RD \nTo pre-register visit our Eventbrite page. Our office will call and confirm with more information on fees. \n*Intake interview required prior to start date. HMO Brown & Toland members pay no fee. All others $60 per class. Advance payment/enrollment required. Call 415-923-3155 or email cpmcchrc@sutterhealth.org for more information. Registration for full series is required; unable to accommodate registration for a single class. 
URL:https://chrcsf.org/event/mindful-eating-class-series-11/
LOCATION:Professional Building\, 2100 Webster Street\, Suite 100\, San Francisco\, CA\, 94115\, United States
CATEGORIES:Group Class
ATTACH;FMTTYPE=image/jpeg:https://chrcsf.org/wp-content/uploads/mindful_eating.jpg
END:VEVENT
BEGIN:VEVENT
DTSTART;TZID=UTC:20191011T094500
DTEND;TZID=UTC:20191011T114500
DTSTAMP:20260422T015355
CREATED:20190501T181509Z
LAST-MODIFIED:20190501T181509Z
UID:6848-1570787100-1570794300@chrcsf.org
SUMMARY:Health Screening: Blood Pressure
DESCRIPTION:Health screenings offered at community based locations are FREE. Each week offers a different screening type that rotates through glucose\, cholesterol\, and blood pressure. Please note\, CHRC no longer offers BMI screenings. \nA registered nurse will be available to discuss results that fall out of range. \nHealth screenings are made possible by a generous contribution from Chevron.
URL:https://chrcsf.org/event/health-screening-blood-pressure-7/
CATEGORIES:Health Screening
END:VEVENT
BEGIN:VEVENT
DTSTART;TZID=UTC:20191016T173000
DTEND;TZID=UTC:20191016T190000
DTSTAMP:20260422T015355
CREATED:20190823T211529Z
LAST-MODIFIED:20190823T212605Z
UID:6902-1571247000-1571252400@chrcsf.org
SUMMARY:Women's Health and Aging
DESCRIPTION:This lecture will discuss women’s health\, gender\, medicine\, and aging\, in addition to the natural history of menopause to present time. Through a western healthcare lens\, we will explore how to integrate and sustain lifestyle\, and personal choices that will lead to long-term wellness and optimal health. \nPresenter: Ricki Pollycove\, MD \nRegister for this FREE class through our Evenbrite page!
URL:https://chrcsf.org/event/womens-health-and-aging-2/
LOCATION:CPMC Pacific Campus\, 2333 Buchanan Street\, San Francisco\, CA\, 94115\, United States
CATEGORIES:Lecture
ATTACH;FMTTYPE=image/jpeg:https://chrcsf.org/wp-content/uploads/womens-health.jpg
END:VEVENT
BEGIN:VEVENT
DTSTART;TZID=UTC:20191018T100000
DTEND;TZID=UTC:20191018T120000
DTSTAMP:20260422T015355
CREATED:20190501T180201Z
LAST-MODIFIED:20190501T180201Z
UID:6839-1571392800-1571400000@chrcsf.org
SUMMARY:Health Screening: Glucose
DESCRIPTION:Health screenings offered at community based locations are FREE. Each week offers a different screening type that rotates through glucose\, cholesterol\, and blood pressure. Please note\, CHRC no longer offers BMI screenings. \nA registered nurse will be available to discuss results that fall out of range. \nHealth screenings are made possible by a generous contribution from Chevron.
URL:https://chrcsf.org/event/health-screening-glucose-26/
CATEGORIES:Health Screening
END:VEVENT
BEGIN:VEVENT
DTSTART;TZID=UTC:20191018T100000
DTEND;TZID=UTC:20191018T120000
DTSTAMP:20260422T015355
CREATED:20190501T182351Z
LAST-MODIFIED:20190501T182351Z
UID:6857-1571392800-1571400000@chrcsf.org
SUMMARY:Health Screening: Blood Pressure
DESCRIPTION:Health screenings offered at community based locations are FREE. Each week offers a different screening type that rotates through glucose\, cholesterol\, and blood pressure. Please note\, CHRC no longer offers BMI screenings. \nA registered nurse will be available to discuss results that fall out of range. \nHealth screenings are made possible by a generous contribution from Chevron.
URL:https://chrcsf.org/event/health-screening-blood-pressure-9/
CATEGORIES:Health Screening
END:VEVENT
END:VCALENDAR