BEGIN:VCALENDAR
VERSION:2.0
PRODID:-//Community Health Resource Center - ECPv6.6.4.2//NONSGML v1.0//EN
CALSCALE:GREGORIAN
METHOD:PUBLISH
X-WR-CALNAME:Community Health Resource Center
X-ORIGINAL-URL:https://chrcsf.org
X-WR-CALDESC:Events for Community Health Resource Center
REFRESH-INTERVAL;VALUE=DURATION:PT1H
X-Robots-Tag:noindex
X-PUBLISHED-TTL:PT1H
BEGIN:VTIMEZONE
TZID:UTC
BEGIN:STANDARD
TZOFFSETFROM:+0000
TZOFFSETTO:+0000
TZNAME:UTC
DTSTART:20200101T000000
END:STANDARD
END:VTIMEZONE
BEGIN:VEVENT
DTSTART;TZID=UTC:20200115T164500
DTEND;TZID=UTC:20200115T181500
DTSTAMP:20260421T132901
CREATED:20191213T002503Z
LAST-MODIFIED:20191213T164206Z
UID:6972-1579106700-1579112100@chrcsf.org
SUMMARY:Investigating Joint Pain
DESCRIPTION:If you suffer from significant joint pain and swelling\, join Dr. Kashif Jafri to learn about your chronic pain and how to better manage it.\n\n\n\n\n\n\n\n\nThis lecture will cover common causes and treatments\, specifically reviewing conditions such as osteoarthritis\, rheumatoid arthritis\, psoriatic arthritis\, and gout. \nYou may register through this Eventbrite link (also available below) or by calling our office during operating hours\, M-F: 8am – 11:45am\, 1pm – 5pm at 415-923-3155. You can also email us to register at cpmcchrc@sutterhealth.org
URL:https://chrcsf.org/event/investigating-joint-pain-2/
LOCATION:CPMC Pacific Campus\, 2333 Buchanan Street\, San Francisco\, CA\, 94115\, United States
CATEGORIES:Lecture,Workshop
ATTACH;FMTTYPE=image/jpeg:https://chrcsf.org/wp-content/uploads/joint-pain.jpg
END:VEVENT
BEGIN:VEVENT
DTSTART;TZID=UTC:20200123T153000
DTEND;TZID=UTC:20200123T170000
DTSTAMP:20260421T132901
CREATED:20191213T174918Z
LAST-MODIFIED:20191213T174918Z
UID:6980-1579793400-1579798800@chrcsf.org
SUMMARY:Nutrition to Reduce Inflammation
DESCRIPTION:Join CHRC to learn what dietary patterns can be helpful in fighting inflammation in our bodies!\n\n\n\n\n\n\n\n\nIn this class\, we will discuss what inflammation is and why it happens. We will discuss in detail foods with “anti-inflammatory” properties. We will also discuss inflammatory diet behaviors\, as well as some unproven dietary trends that fight inflammation. \nThis class is led by CHRC’s Elena Zidaru\, MS\, RD. \n2333 Buchanan Street\, Enright Room \n\n\n\n\nYou may register through this Eventbrite link (also available below) or by calling our office at 415-923-3155 during operating hours\, M-F: 8am – 11:45am\, 1pm – 5pm. You can also email us to register at cpmcchrc@sutterhealth.org
URL:https://chrcsf.org/event/nutrition-to-reduce-inflammation/
LOCATION:CPMC Pacific Campus\, 2333 Buchanan Street\, San Francisco\, CA\, 94115\, United States
CATEGORIES:Lecture,Workshop
ATTACH;FMTTYPE=image/jpeg:https://chrcsf.org/wp-content/uploads/anti-inflammation-food.jpg
END:VEVENT
BEGIN:VEVENT
DTSTART;TZID=UTC:20200130T150000
DTEND;TZID=UTC:20200130T163000
DTSTAMP:20260421T132901
CREATED:20191213T175844Z
LAST-MODIFIED:20191213T175844Z
UID:6985-1580396400-1580401800@chrcsf.org
SUMMARY:Osteoarthritis and Movement
DESCRIPTION:If you suffer from limited mobility due to chronic pain\, join CHRC to learn about ways you can help bring more movement back into your life!\n\n\n\n\n\n\n\n\nThis interactive workshop will include an overview of how to utilize exercise strategies to increase strength and flexibility for those with arthritis. A physical therapist will guide you on which types of exercise are best for you to do safely\, while working to reduce joint pain and stiffness. Participants will be able to practice exercises and work with the instructor during the session. *Light movement will take place in this workshop. \n2333 Buchanan Street\, Enright Room \nThis class if led by Brynne Duty\, PT\, DPT\, OCS (CPMC Physical Therapy Department) \nYou may register through this Eventbrite link (also available below) or by calling our office at 415-923-3155 during operating hours\, M-F: 8am – 11:45am\, 1pm – 5pm. You can also email us to register at cpmcchrc@sutterhealth.org
URL:https://chrcsf.org/event/osteoarthritis-and-movement/
LOCATION:CPMC Pacific Campus\, 2333 Buchanan Street\, San Francisco\, CA\, 94115\, United States
CATEGORIES:Lecture,Workshop
ATTACH;FMTTYPE=image/jpeg:https://chrcsf.org/wp-content/uploads/osteo-and-movement.jpg
END:VEVENT
END:VCALENDAR