BEGIN:VCALENDAR
VERSION:2.0
PRODID:-//Community Health Resource Center - ECPv6.6.4.2//NONSGML v1.0//EN
CALSCALE:GREGORIAN
METHOD:PUBLISH
X-ORIGINAL-URL:https://chrcsf.org
X-WR-CALDESC:Events for Community Health Resource Center
REFRESH-INTERVAL;VALUE=DURATION:PT1H
X-Robots-Tag:noindex
X-PUBLISHED-TTL:PT1H
BEGIN:VTIMEZONE
TZID:UTC
BEGIN:STANDARD
TZOFFSETFROM:+0000
TZOFFSETTO:+0000
TZNAME:UTC
DTSTART:20200101T000000
END:STANDARD
END:VTIMEZONE
BEGIN:VEVENT
DTSTART;TZID=UTC:20201001T120000
DTEND;TZID=UTC:20201001T130000
DTSTAMP:20260424T061435
CREATED:20200902T161549Z
LAST-MODIFIED:20200902T161549Z
UID:7283-1601553600-1601557200@chrcsf.org
SUMMARY:Stroke Survivor Support Group
DESCRIPTION:This group is designed to aid the recovery of stroke survivors by providing a safe and supportive atmosphere where individuals are able to share their experiences. Individuals at any stage of recovery are invited to attend. \nDate\, Time: First Thursdays\n12 – 1:00 pm \nLocation: Zoom \nTo be admitted\, call 415-923-3155 or email cpmcchrc@sutterhealth.org. \nFee: No cost to attend \nGroup is moderated by CHRC licensed clinical social worker.
URL:https://chrcsf.org/event/stroke-survivor-support-group-25/
LOCATION:Virtual Meeting Room\, N/A
CATEGORIES:Support Group
ATTACH;FMTTYPE=image/jpeg:https://chrcsf.org/wp-content/uploads/hold-hand.jpg
END:VEVENT
BEGIN:VEVENT
DTSTART;TZID=UTC:20201002T100000
DTEND;TZID=UTC:20201002T120000
DTSTAMP:20260424T061435
CREATED:20200928T193548Z
LAST-MODIFIED:20200928T193931Z
UID:7298-1601632800-1601640000@chrcsf.org
SUMMARY:Drop-In Health Screening: MNC
DESCRIPTION:Free health screenings are available to the community on a drop-in basis at Mission Neighborhood Centers (MNC) \nDue to the COVID-19 pandemic\, screenings remain unavailable at Chinatown YMCA\, Mission YMCA\, and Stonestown YMCA. \nPlease check chrcsf.org/events periodically for updates. \nEach date will now offer all 3 screenings tests: blood glucose\, cholesterol\, and blood pressure. \nHealth screenings are made possible by a generous contribution from Chevron. \nOn this date\, there will also be FREE flu shots provided at Mission Neighborhood Centers.
URL:https://chrcsf.org/event/drop-in-health-screening-mnc-2/
LOCATION:Mission Neighborhood Centers\, 362 Capp Street\, San Francisco\, 94110\, United States
CATEGORIES:Health Screening
ATTACH;FMTTYPE=image/png:https://chrcsf.org/wp-content/uploads/fingerstick.png
END:VEVENT
BEGIN:VEVENT
DTSTART;TZID=UTC:20201007T130000
DTEND;TZID=UTC:20201007T150000
DTSTAMP:20260424T061435
CREATED:20200921T231053Z
LAST-MODIFIED:20200921T231053Z
UID:7291-1602075600-1602082800@chrcsf.org
SUMMARY:Drop-In Health Screening: 2100 Webster
DESCRIPTION:Free health screenings are available to the community on a drop-in basis at the Professional Building (2100 Webster St) \nDue to the COVID-19 pandemic\, screenings remain unavailable at Chinatown YMCA\, Mission YMCA\, and Stonetown YMCA. \nPlease check chrcsf.org/events periodically for updates. \nEach date will now offer all 3 screenings tests: blood glucose\, cholesterol\, and blood pressure. \nHealth screenings are made possible by a generous contribution from Chevron.
URL:https://chrcsf.org/event/drop-in-health-screening-2100-webster-3/
LOCATION:Professional Building\, 2100 Webster Street\, Suite 100\, San Francisco\, CA\, 94115\, United States
CATEGORIES:Health Screening
ATTACH;FMTTYPE=image/png:https://chrcsf.org/wp-content/uploads/fingerstick.png
END:VEVENT
BEGIN:VEVENT
DTSTART;TZID=UTC:20201014T160000
DTEND;TZID=UTC:20201014T173000
DTSTAMP:20260424T061435
CREATED:20200825T002847Z
LAST-MODIFIED:20201001T205744Z
UID:7229-1602691200-1602696600@chrcsf.org
SUMMARY:Breast Health: Lifestyle\, Screening\, & Early Detection
DESCRIPTION:CHRC is kicking off October’s Breast Cancer Awareness month with a presentation featuring two experts in women’s health.\nThe first of our 2-part Breast Cancer Awareness series is Dr. Peled and Dr. Pollycove’s panel. The doctors will share data slides and have a freestyle discussion\, then answer questions from the audience. You can expect the doctors to address the following questions and topics: \nRisk assessment: an evolving and important starting place\nHow much does family history matter?\nHow do my life style choices affect my risk?\nHow consumers think & behave\nShould I get genetic testing?\nIs the radiation from mammograms harmful?\nWhy don’t we just have MRI’s every year if we are worried about missing something bad on mammography?\nWhat about whole breast ultrasound? Who should have that? \nPresenters: Ricki Pollycove\, MD (San Francisco Integrative Gynecology)  \n& Anne Peled\, MD (Sutter Health CPMC) \nRegister\n  \nOr\, visit zoom.com/join and enter ID 816 7979 0641. \nEmail nguyentk@sutterhealth.org for questions regarding registration.
URL:https://chrcsf.org/event/breast-health-lifestyle-screening-early-detection/
LOCATION:CHRC Zoom Webinar
CATEGORIES:Group Class,Lecture,Workshop
ATTACH;FMTTYPE=image/png:https://chrcsf.org/wp-content/uploads/Breast-1st-talk.png
END:VEVENT
BEGIN:VEVENT
DTSTART;TZID=UTC:20201016T100000
DTEND;TZID=UTC:20201016T120000
DTSTAMP:20260424T061435
CREATED:20200928T193809Z
LAST-MODIFIED:20200928T193809Z
UID:7300-1602842400-1602849600@chrcsf.org
SUMMARY:Drop-In Health Screening: MNC
DESCRIPTION:Free health screenings are available to the community on a drop-in basis at Mission Neighborhood Centers (MNC) \nDue to the COVID-19 pandemic\, screenings remain unavailable at Chinatown YMCA\, Mission YMCA\, and Stonestown YMCA. \nPlease check chrcsf.org/events periodically for updates. \nEach date will now offer all 3 screenings tests: blood glucose\, cholesterol\, and blood pressure. \nHealth screenings are made possible by a generous contribution from Chevron. \nOn this date\, there will also be FREE flu shots provided at Mission Neighborhood Centers.
URL:https://chrcsf.org/event/drop-in-health-screening-mnc-3/
LOCATION:Mission Neighborhood Centers\, 362 Capp Street\, San Francisco\, 94110\, United States
CATEGORIES:Health Screening
ATTACH;FMTTYPE=image/png:https://chrcsf.org/wp-content/uploads/fingerstick.png
END:VEVENT
BEGIN:VEVENT
DTSTART;TZID=UTC:20201021T130000
DTEND;TZID=UTC:20201021T150000
DTSTAMP:20260424T061435
CREATED:20200928T194802Z
LAST-MODIFIED:20200928T194802Z
UID:7301-1603285200-1603292400@chrcsf.org
SUMMARY:Drop-In Health Screening: 2100 Webster
DESCRIPTION:Free health screenings are available to the community on a drop-in basis at the Professional Building (2100 Webster St) \nDue to the COVID-19 pandemic\, screenings remain unavailable at Chinatown YMCA\, Mission YMCA\, and Stonetown YMCA. \nPlease check chrcsf.org/events periodically for updates. \nEach date will now offer all 3 screenings tests: blood glucose\, cholesterol\, and blood pressure. \nHealth screenings are made possible by a generous contribution from Chevron.
URL:https://chrcsf.org/event/drop-in-health-screening-2100-webster-4/
LOCATION:Professional Building\, 2100 Webster Street\, Suite 100\, San Francisco\, CA\, 94115\, United States
CATEGORIES:Health Screening
ATTACH;FMTTYPE=image/png:https://chrcsf.org/wp-content/uploads/fingerstick.png
END:VEVENT
BEGIN:VEVENT
DTSTART;TZID=UTC:20201021T163000
DTEND;TZID=UTC:20201021T180000
DTSTAMP:20260424T061435
CREATED:20200825T004036Z
LAST-MODIFIED:20201019T142050Z
UID:7231-1603297800-1603303200@chrcsf.org
SUMMARY:Advances and Innovations in Breast Health and Breast Cancer Care
DESCRIPTION:As the final part to our Breast Health Awareness month series (Breast health talk #1 here)\, CHRC is collaborating with CPMC Breast Care Team to bring you a special series of 15-min talks featuring information on CPMC Breast Health Center resources\, breast cancer support services\, and breast cancer products\, devices and technologies. \nFeatured panelists from CPMC Breast Care Team:\nJohn Bokelman\, MD\nElizabeth Carte\, LCGC\nJoanne Edquilang\, MD\nStephanie Jeske\, MD\nAnne Peled\, MD\nRegister\n  \nOr\, visit zoom.com/join and enter ID 826 4507 0700. \nThank you for the support of our sponsors:
URL:https://chrcsf.org/event/advances-and-innovations-in-breast-health-and-breast-cancer-care/
LOCATION:CHRC Zoom Webinar
CATEGORIES:Group Class,Lecture,Workshop
ATTACH;FMTTYPE=image/png:https://chrcsf.org/wp-content/uploads/breast-2.png
END:VEVENT
BEGIN:VEVENT
DTSTART;TZID=UTC:20201022T160000
DTEND;TZID=UTC:20201022T170000
DTSTAMP:20260424T061435
CREATED:20200825T010436Z
LAST-MODIFIED:20201016T172819Z
UID:7236-1603382400-1603386000@chrcsf.org
SUMMARY:Mindful Eating (Group Class)
DESCRIPTION:4:00 – 5:00 pm\nThursday\, October 22 (First class)\nThursday\, October 29\nThursday\, November 5\nThursday\, November 12 (Final Class) \nInstructor: Jason Mousel\, MS\, RD (CHRC) \nDo you struggle with food cravings or eating beyond fullness?  \nDo you want a more balanced relationship with food?\nJoin us for an exploration of how habits drive food choices and learn to develop a balanced\, healthy\, and enjoyable way of eating. \nWhat to Expect\nThis interactive seminar is facilitated by Jason Mousel\, a registered dietitian who provides counseling and education on finding wellness through whole foods and intentional eating. Participants will learn basic mindfulness techniques like breath awareness\, body awareness\, and relaxation along with mindful eating skills like tuning into taste\, pausing prior to eating\, and hunger and fullness awareness. \nWhat is Mindful Eating? Eating with intention and attention.\nA non-judgmental approach to transforming your diet and relationship to food. This program replaces the restriction and deprivation of typical diet plans with an abundant\, nourishing\, and enjoyable approach to eating. You will learn tools to support a diet that is individualized\, flexible\, and sustainable. Mindfulness greatly decreases the struggle with food by fostering a sense of investigation\, discovery\, and experimentation.\nYou will learn\n•       How to be in charge of your eating instead of feeling out of control\n•       How to use hunger and fullness to guide your eating\n•       How to enjoy food without overeating or guilt\n•       How to slow down and savor your food \n*Intake interview required prior to start date. FREE for HMO Brown & Toland members; $60/class for all else\, totaling $240. Enrollment in full course is required.\nLet us know you are interested by filling out the information below! We will reach out to complete the registration process.
URL:https://chrcsf.org/event/mindful-eating-group-class/
LOCATION:Virtual Meeting Room\, N/A
CATEGORIES:Group Class,Support Group
ATTACH;FMTTYPE=image/png:https://chrcsf.org/wp-content/uploads/mindful-eating.png
END:VEVENT
END:VCALENDAR