BEGIN:VCALENDAR
VERSION:2.0
PRODID:-//Community Health Resource Center - ECPv6.6.4.2//NONSGML v1.0//EN
CALSCALE:GREGORIAN
METHOD:PUBLISH
X-WR-CALNAME:Community Health Resource Center
X-ORIGINAL-URL:https://chrcsf.org
X-WR-CALDESC:Events for Community Health Resource Center
REFRESH-INTERVAL;VALUE=DURATION:PT1H
X-Robots-Tag:noindex
X-PUBLISHED-TTL:PT1H
BEGIN:VTIMEZONE
TZID:UTC
BEGIN:STANDARD
TZOFFSETFROM:+0000
TZOFFSETTO:+0000
TZNAME:UTC
DTSTART:20200101T000000
END:STANDARD
END:VTIMEZONE
BEGIN:VEVENT
DTSTART;TZID=UTC:20201104T130000
DTEND;TZID=UTC:20201104T150000
DTSTAMP:20260424T021403
CREATED:20200928T195004Z
LAST-MODIFIED:20200928T195004Z
UID:7302-1604494800-1604502000@chrcsf.org
SUMMARY:Drop-In Health Screening: 2100 Webster
DESCRIPTION:Free health screenings are available to the community on a drop-in basis at the Professional Building (2100 Webster St) \nDue to the COVID-19 pandemic\, screenings remain unavailable at Chinatown YMCA\, Mission YMCA\, and Stonetown YMCA. \nPlease check chrcsf.org/events periodically for updates. \nEach date will now offer all 3 screenings tests: blood glucose\, cholesterol\, and blood pressure. \nHealth screenings are made possible by a generous contribution from Chevron.
URL:https://chrcsf.org/event/drop-in-health-screening-2100-webster-5/
LOCATION:Professional Building\, 2100 Webster Street\, Suite 100\, San Francisco\, CA\, 94115\, United States
CATEGORIES:Health Screening
ATTACH;FMTTYPE=image/png:https://chrcsf.org/wp-content/uploads/fingerstick.png
END:VEVENT
BEGIN:VEVENT
DTSTART;TZID=UTC:20201105T120000
DTEND;TZID=UTC:20201105T130000
DTSTAMP:20260424T021403
CREATED:20201010T180430Z
LAST-MODIFIED:20201112T180514Z
UID:7322-1604577600-1604581200@chrcsf.org
SUMMARY:Stroke Survivor Support Group
DESCRIPTION:This group is designed to aid the recovery of stroke survivors by providing a safe and supportive atmosphere where individuals are able to share their experiences. Individuals at any stage of recovery are invited to attend. \nDate\, Time: First Thursdays\n12 – 1:00 pm \nLocation: Zoom \nTo be admitted\, call 415-923-3155 or email cpmcchrc@sutterhealth.org. \nFee: No cost to attend \nGroup is moderated by CHRC licensed clinical social worke
URL:https://chrcsf.org/event/stroke-survivor-support-group-26/
LOCATION:Virtual Meeting Room\, N/A
CATEGORIES:Support Group
ATTACH;FMTTYPE=image/jpeg:https://chrcsf.org/wp-content/uploads/hold-hand.jpg
END:VEVENT
BEGIN:VEVENT
DTSTART;TZID=UTC:20201106T100000
DTEND;TZID=UTC:20201106T120000
DTSTAMP:20260424T021403
CREATED:20200928T200104Z
LAST-MODIFIED:20200928T200104Z
UID:7306-1604656800-1604664000@chrcsf.org
SUMMARY:Drop-In Health Screening: MNC
DESCRIPTION:Free health screenings are available to the community on a drop-in basis at Mission Neighborhood Centers (MNC) \nDue to the COVID-19 pandemic\, screenings remain unavailable at Chinatown YMCA\, Mission YMCA\, and Stonestown YMCA. \nPlease check chrcsf.org/events periodically for updates. \nEach date will now offer all 3 screenings tests: blood glucose\, cholesterol\, and blood pressure. \nHealth screenings are made possible by a generous contribution from Chevron. \nOn this date\, there will also be FREE flu shots provided at Mission Neighborhood Centers.
URL:https://chrcsf.org/event/drop-in-health-screening-mnc-4/
LOCATION:Mission Neighborhood Centers\, 362 Capp Street\, San Francisco\, 94110\, United States
CATEGORIES:Health Screening
ATTACH;FMTTYPE=image/png:https://chrcsf.org/wp-content/uploads/fingerstick.png
END:VEVENT
BEGIN:VEVENT
DTSTART;TZID=UTC:20201111T160000
DTEND;TZID=UTC:20201111T173000
DTSTAMP:20260424T021403
CREATED:20200825T012154Z
LAST-MODIFIED:20200825T012154Z
UID:7239-1605110400-1605115800@chrcsf.org
SUMMARY:Diabetes Awareness: Prevention\, Pre-diabetes\, & Diet
DESCRIPTION:CHRC’s registered dietitian\, Eric Hernandez\, is an expert clinical nutritionist who’s counseled countless patients on managing their diabetes. For Diabetes Awareness month\, Eric will lead a webinar educating on the role that diet plays in diabetes prevention and management. He will provide tips for foods and portioning. \nPresenter: Eric Hernandez\, RD \nRegister\n  \nOr\, visit zoom.com/join and enter ID 893 9882 4029. \nEmail nguyentk@sutterhealth.org for questions regarding registration.
URL:https://chrcsf.org/event/diabetes-awareness-prevention-pre-diabetes-diet/
LOCATION:CHRC Zoom Webinar
CATEGORIES:Group Class,Lecture,Workshop
ATTACH;FMTTYPE=image/png:https://chrcsf.org/wp-content/uploads/diabetes.png
END:VEVENT
BEGIN:VEVENT
DTSTART;TZID=UTC:20201117T160000
DTEND;TZID=UTC:20201117T173000
DTSTAMP:20260424T021403
CREATED:20200825T014359Z
LAST-MODIFIED:20200825T014359Z
UID:7241-1605628800-1605634200@chrcsf.org
SUMMARY:Lung Cancer Awareness Month: Insights & Information
DESCRIPTION:Doctor Benson Chen is a pulmonologist with expertise in lung cancer screening and lung nodule management. Dr. Chen will provide information for diagnostic and staging evaluations for patients with lung nodules and suspected lung cancer. He will also provide an overview of lung cancer treatment. Participants will have opportunity to post questions throughout the lecture and a chance for discussion during the Q&A portion at the end. \nPresenter: Benson Chen\, MD (Pulmonary Disease and Critical Care Medicine\, CPMC) \nRegister\n  \nOr\, visit zoom.com/join and enter ID 894 8482 2157. \nEmail nguyentk@sutterhealth.org for questions regarding registration.
URL:https://chrcsf.org/event/lung-cancer-awareness-month-insights-information/
LOCATION:CHRC Zoom Webinar
CATEGORIES:Group Class,Lecture,Workshop
ATTACH;FMTTYPE=image/png:https://chrcsf.org/wp-content/uploads/lung-cancer.png
END:VEVENT
BEGIN:VEVENT
DTSTART;TZID=UTC:20201118T130000
DTEND;TZID=UTC:20201118T150000
DTSTAMP:20260424T021403
CREATED:20200928T195307Z
LAST-MODIFIED:20200928T195307Z
UID:7303-1605704400-1605711600@chrcsf.org
SUMMARY:Drop-In Health Screening: 2100 Webster
DESCRIPTION:Free health screenings are available to the community on a drop-in basis at the Professional Building (2100 Webster St) \nDue to the COVID-19 pandemic\, screenings remain unavailable at Chinatown YMCA\, Mission YMCA\, and Stonetown YMCA. \nPlease check chrcsf.org/events periodically for updates. \nEach date will now offer all 3 screenings tests: blood glucose\, cholesterol\, and blood pressure. \nHealth screenings are made possible by a generous contribution from Chevron.
URL:https://chrcsf.org/event/drop-in-health-screening-2100-webster-6/
LOCATION:Professional Building\, 2100 Webster Street\, Suite 100\, San Francisco\, CA\, 94115\, United States
CATEGORIES:Health Screening
ATTACH;FMTTYPE=image/png:https://chrcsf.org/wp-content/uploads/fingerstick.png
END:VEVENT
BEGIN:VEVENT
DTSTART;TZID=UTC:20201119T173000
DTEND;TZID=UTC:20201119T190000
DTSTAMP:20260424T021403
CREATED:20200825T015728Z
LAST-MODIFIED:20200825T015813Z
UID:7243-1605807000-1605812400@chrcsf.org
SUMMARY:Lifestyle as Medicine: You Are Your Primary Care Provider
DESCRIPTION:This presentation combines the expertise of 3 providers: a doctor with decades of integrative health experience\, and two clinical nutritionists with specialties in eating disorders and holistic health. Together\, the three will provide their specialized perspectives on the prevalence of trendy “quick-fixes” that claim to heal us or transform our health. The speakers will address the forces that drive us to unhealthy habits and give tips on how we can work towards sustaining healthy change through small steps. \nPresenters: Ricki Pollycove\, MD (San Francisco Integrative Gynecology) \n Sabine Haake\, MA\, RD (CHRC) \n Jason Mousel\, MS\, RD (CHRC) \nRegister\n  \nOr\, visit zoom.com/join and enter ID 854 8018 6928. \nEmail nguyentk@sutterhealth.org for questions regarding registration.
URL:https://chrcsf.org/event/lifestyle-as-medicine-you-are-your-primary-care-provider/
LOCATION:CHRC Zoom Webinar
CATEGORIES:Group Class,Lecture,Workshop
ATTACH;FMTTYPE=image/png:https://chrcsf.org/wp-content/uploads/lifestyle-as-medicine.png
END:VEVENT
BEGIN:VEVENT
DTSTART;TZID=UTC:20201120T100000
DTEND;TZID=UTC:20201120T120000
DTSTAMP:20260424T021403
CREATED:20200928T200259Z
LAST-MODIFIED:20200928T200259Z
UID:7307-1605866400-1605873600@chrcsf.org
SUMMARY:Drop-In Health Screening: MNC
DESCRIPTION:Free health screenings are available to the community on a drop-in basis at Mission Neighborhood Centers (MNC) \nDue to the COVID-19 pandemic\, screenings remain unavailable at Chinatown YMCA\, Mission YMCA\, and Stonestown YMCA. \nPlease check chrcsf.org/events periodically for updates. \nEach date will now offer all 3 screenings tests: blood glucose\, cholesterol\, and blood pressure. \nHealth screenings are made possible by a generous contribution from Chevron. \nOn this date\, there will also be FREE flu shots provided at Mission Neighborhood Centers.
URL:https://chrcsf.org/event/drop-in-health-screening-mnc-5/
LOCATION:Mission Neighborhood Centers\, 362 Capp Street\, San Francisco\, 94110\, United States
CATEGORIES:Health Screening
ATTACH;FMTTYPE=image/png:https://chrcsf.org/wp-content/uploads/fingerstick.png
END:VEVENT
END:VCALENDAR