BEGIN:VCALENDAR
VERSION:2.0
PRODID:-//Community Health Resource Center - ECPv6.6.4.2//NONSGML v1.0//EN
CALSCALE:GREGORIAN
METHOD:PUBLISH
X-WR-CALNAME:Community Health Resource Center
X-ORIGINAL-URL:https://chrcsf.org
X-WR-CALDESC:Events for Community Health Resource Center
REFRESH-INTERVAL;VALUE=DURATION:PT1H
X-Robots-Tag:noindex
X-PUBLISHED-TTL:PT1H
BEGIN:VTIMEZONE
TZID:UTC
BEGIN:STANDARD
TZOFFSETFROM:+0000
TZOFFSETTO:+0000
TZNAME:UTC
DTSTART:20200101T000000
END:STANDARD
END:VTIMEZONE
BEGIN:VEVENT
DTSTART;TZID=UTC:20201202T130000
DTEND;TZID=UTC:20201202T150000
DTSTAMP:20260423T190403
CREATED:20200928T195547Z
LAST-MODIFIED:20200928T195547Z
UID:7304-1606914000-1606921200@chrcsf.org
SUMMARY:Drop-In Health Screening: 2100 Webster
DESCRIPTION:Free health screenings are available to the community on a drop-in basis at the Professional Building (2100 Webster St) \nDue to the COVID-19 pandemic\, screenings remain unavailable at Chinatown YMCA\, Mission YMCA\, and Stonetown YMCA. \nPlease check chrcsf.org/events periodically for updates. \nEach date will now offer all 3 screenings tests: blood glucose\, cholesterol\, and blood pressure. \nHealth screenings are made possible by a generous contribution from Chevron.
URL:https://chrcsf.org/event/drop-in-health-screening-2100-webster-7/
LOCATION:Professional Building\, 2100 Webster Street\, Suite 100\, San Francisco\, CA\, 94115\, United States
CATEGORIES:Health Screening
ATTACH;FMTTYPE=image/png:https://chrcsf.org/wp-content/uploads/fingerstick.png
END:VEVENT
BEGIN:VEVENT
DTSTART;TZID=UTC:20201204T100000
DTEND;TZID=UTC:20201204T120000
DTSTAMP:20260423T190403
CREATED:20200928T200421Z
LAST-MODIFIED:20200928T200421Z
UID:7308-1607076000-1607083200@chrcsf.org
SUMMARY:Drop-In Health Screening: MNC
DESCRIPTION:Free health screenings are available to the community on a drop-in basis at Mission Neighborhood Centers (MNC) \nDue to the COVID-19 pandemic\, screenings remain unavailable at Chinatown YMCA\, Mission YMCA\, and Stonestown YMCA. \nPlease check chrcsf.org/events periodically for updates. \nEach date will now offer all 3 screenings tests: blood glucose\, cholesterol\, and blood pressure. \nHealth screenings are made possible by a generous contribution from Chevron. \nOn this date\, there will also be FREE flu shots provided at Mission Neighborhood Centers.
URL:https://chrcsf.org/event/drop-in-health-screening-mnc-6/
LOCATION:Mission Neighborhood Centers\, 362 Capp Street\, San Francisco\, 94110\, United States
CATEGORIES:Health Screening
ATTACH;FMTTYPE=image/png:https://chrcsf.org/wp-content/uploads/fingerstick.png
END:VEVENT
BEGIN:VEVENT
DTSTART;TZID=UTC:20201204T120000
DTEND;TZID=UTC:20201204T130000
DTSTAMP:20260423T190403
CREATED:20201105T180801Z
LAST-MODIFIED:20201112T181105Z
UID:7323-1607083200-1607086800@chrcsf.org
SUMMARY:Stroke Survivor Support Group
DESCRIPTION:This group is designed to aid the recovery of stroke survivors by providing a safe and supportive atmosphere where individuals are able to share their experiences. Individuals at any stage of recovery are invited to attend. \nDate\, Time: First Fridays\n12 – 1:00 pm \nLocation: Zoom Meeting Room \nTo be admitted\, call 415-923-3155 or email cpmcchrc@sutterhealth.org. \nFee: No cost to attend \nGroup is moderated by CHRC licensed clinical social worker. \n  \n*Note this group previously met on the first Thursday of each month. It has been updated to first Friday of each month.
URL:https://chrcsf.org/event/stroke-survivor-support-group-27/
LOCATION:Virtual Meeting Room\, N/A
CATEGORIES:Support Group
ATTACH;FMTTYPE=image/jpeg:https://chrcsf.org/wp-content/uploads/hold-hand.jpg
END:VEVENT
BEGIN:VEVENT
DTSTART;TZID=UTC:20201210T153000
DTEND;TZID=UTC:20201210T170000
DTSTAMP:20260423T190403
CREATED:20201123T230745Z
LAST-MODIFIED:20201123T230745Z
UID:7325-1607614200-1607619600@chrcsf.org
SUMMARY:Liver Diseases: Risks\, Causes\, & Treatments
DESCRIPTION:Doctor Jennifer Guy is a transplant hepatologist and gastroenterologist at Sutter’s California Pacific Medical Center. Doctor Guy joins CHRC to provide a presentation on types of common liver diseases. She will provide an overview of risks and causes for certain liver diseases and available treatments for them. Let us know your questions for Dr. Guy during our virtual lecture! \nPresenter: Jennifer Guy\, MD (Sutter’s California Pacific Medical Center) \nRegister\n  \nOr\, visit zoom.com/join and enter ID 882 4626 2692. \nEmail nguyentk@sutterhealth.org for questions regarding registration.
URL:https://chrcsf.org/event/liver-diseases-risks-causes-treatments/
LOCATION:CHRC Zoom Webinar
CATEGORIES:Group Class,Lecture,Workshop
ATTACH;FMTTYPE=image/png:https://chrcsf.org/wp-content/uploads/liver.png
END:VEVENT
BEGIN:VEVENT
DTSTART;TZID=UTC:20201216T130000
DTEND;TZID=UTC:20201216T150000
DTSTAMP:20260423T190403
CREATED:20200928T195720Z
LAST-MODIFIED:20200928T195720Z
UID:7305-1608123600-1608130800@chrcsf.org
SUMMARY:Drop-In Health Screening: 2100 Webster
DESCRIPTION:Free health screenings are available to the community on a drop-in basis at the Professional Building (2100 Webster St) \nDue to the COVID-19 pandemic\, screenings remain unavailable at Chinatown YMCA\, Mission YMCA\, and Stonetown YMCA. \nPlease check chrcsf.org/events periodically for updates. \nEach date will now offer all 3 screenings tests: blood glucose\, cholesterol\, and blood pressure. \nHealth screenings are made possible by a generous contribution from Chevron.
URL:https://chrcsf.org/event/drop-in-health-screening-2100-webster-8/
LOCATION:Professional Building\, 2100 Webster Street\, Suite 100\, San Francisco\, CA\, 94115\, United States
CATEGORIES:Health Screening
ATTACH;FMTTYPE=image/png:https://chrcsf.org/wp-content/uploads/fingerstick.png
END:VEVENT
BEGIN:VEVENT
DTSTART;TZID=UTC:20201218T100000
DTEND;TZID=UTC:20201218T120000
DTSTAMP:20260423T190403
CREATED:20200928T200535Z
LAST-MODIFIED:20201215T224347Z
UID:7309-1608285600-1608292800@chrcsf.org
SUMMARY:Drop-In Health Screening: MNC - CX
DESCRIPTION:This health screening event has been cancelled.\nPlease stay tuned for a new schedule of our free health screenings taking place at Mission Neighborhood Centers.
URL:https://chrcsf.org/event/drop-in-health-screening-mnc-7/
LOCATION:Mission Neighborhood Centers\, 362 Capp Street\, San Francisco\, 94110\, United States
CATEGORIES:Health Screening
ATTACH;FMTTYPE=image/png:https://chrcsf.org/wp-content/uploads/fingerstick.png
END:VEVENT
END:VCALENDAR