BEGIN:VCALENDAR
VERSION:2.0
PRODID:-//Community Health Resource Center - ECPv6.6.4.2//NONSGML v1.0//EN
CALSCALE:GREGORIAN
METHOD:PUBLISH
X-ORIGINAL-URL:https://chrcsf.org
X-WR-CALDESC:Events for Community Health Resource Center
REFRESH-INTERVAL;VALUE=DURATION:PT1H
X-Robots-Tag:noindex
X-PUBLISHED-TTL:PT1H
BEGIN:VTIMEZONE
TZID:UTC
BEGIN:STANDARD
TZOFFSETFROM:+0000
TZOFFSETTO:+0000
TZNAME:UTC
DTSTART:20210101T000000
END:STANDARD
END:VTIMEZONE
BEGIN:VEVENT
DTSTART;TZID=UTC:20210205T100000
DTEND;TZID=UTC:20210205T120000
DTSTAMP:20260423T155043
CREATED:20201228T231252Z
LAST-MODIFIED:20201228T231252Z
UID:7357-1612519200-1612526400@chrcsf.org
SUMMARY:Drop-In Health Screening: MNC
DESCRIPTION:Free health screenings are available to the community on a drop-in basis at Mission Neighborhood Centers (MNC) \nDue to the COVID-19 pandemic\, screenings remain unavailable at Chinatown YMCA\, Mission YMCA\, Stonestown YMCA\, and Professional Building. \nPlease check chrcsf.org/events periodically for updates. \nEach date will now offer all 3 screenings tests: blood glucose\, cholesterol\, and blood pressure. \nOn this date\, there will also be FREE flu shots provided at Mission Neighborhood Centers.
URL:https://chrcsf.org/event/drop-in-health-screening-mnc-9/
LOCATION:Mission Neighborhood Centers\, 362 Capp Street\, San Francisco\, 94110\, United States
CATEGORIES:Health Screening
ATTACH;FMTTYPE=image/png:https://chrcsf.org/wp-content/uploads/fingerstick.png
END:VEVENT
BEGIN:VEVENT
DTSTART;TZID=UTC:20210205T120000
DTEND;TZID=UTC:20210205T130000
DTSTAMP:20260423T155043
CREATED:20210105T021532Z
LAST-MODIFIED:20210105T021532Z
UID:7382-1612526400-1612530000@chrcsf.org
SUMMARY:Stroke Survivor Support Group
DESCRIPTION:This group is designed to aid the recovery of stroke survivors by providing a safe and supportive atmosphere where individuals are able to share their experiences. Individuals at any stage of recovery are invited to attend. \nLocation: Zoom Meeting Room \nTo be admitted\, call 415-923-3155 or email cpmcchrc@sutterhealth.org. \nFee: No cost to attend \nGroup is moderated by CHRC licensed clinical social worker.
URL:https://chrcsf.org/event/stroke-survivor-support-group-29/
LOCATION:CHRC Zoom Private Meeting Room
CATEGORIES:Support Group
ATTACH;FMTTYPE=image/jpeg:https://chrcsf.org/wp-content/uploads/hold-hand.jpg
END:VEVENT
BEGIN:VEVENT
DTSTART;TZID=UTC:20210218T153000
DTEND;TZID=UTC:20210218T170000
DTSTAMP:20260423T155043
CREATED:20201229T005026Z
LAST-MODIFIED:20210204T162849Z
UID:7368-1613662200-1613667600@chrcsf.org
SUMMARY:Promoting Wellness with Three Habits
DESCRIPTION:Presenter: Leah Kramer\, LCSW \nAs behavioral health professionals\, we often meet our clients in therapy and focus on challenging unhelpful thoughts and behaviors in an effort to make positive changes in their lives. \nEvidence shows us that changing or adding new behaviors can improve our psychological health. \nWe will discuss three habits – gratitude\, getting out in nature\, and mindfulness which are evidenced based to help everyone\, not just those suffering from depression and anxiety. \nRegister
URL:https://chrcsf.org/event/https-chrcsf-org-events-2021-01/
LOCATION:CHRC Zoom Webinar
CATEGORIES:Group Class,Lecture
ATTACH;FMTTYPE=image/png:https://chrcsf.org/wp-content/uploads/ef458d63-371f-47ac-b01f-224b598d1225.png
END:VEVENT
BEGIN:VEVENT
DTSTART;TZID=UTC:20210219T100000
DTEND;TZID=UTC:20210219T120000
DTSTAMP:20260423T155043
CREATED:20201228T231333Z
LAST-MODIFIED:20201228T231333Z
UID:7356-1613728800-1613736000@chrcsf.org
SUMMARY:Drop-In Health Screening: MNC
DESCRIPTION:Free health screenings are available to the community on a drop-in basis at Mission Neighborhood Centers (MNC) \nDue to the COVID-19 pandemic\, screenings remain unavailable at Chinatown YMCA\, Mission YMCA\, Stonestown YMCA\, and Professional Building. \nPlease check chrcsf.org/events periodically for updates. \nEach date will now offer all 3 screenings tests: blood glucose\, cholesterol\, and blood pressure. \nOn this date\, there will also be FREE flu shots provided at Mission Neighborhood Centers.
URL:https://chrcsf.org/event/drop-in-health-screening-mnc-10/
LOCATION:Mission Neighborhood Centers\, 362 Capp Street\, San Francisco\, 94110\, United States
CATEGORIES:Health Screening
ATTACH;FMTTYPE=image/png:https://chrcsf.org/wp-content/uploads/fingerstick.png
END:VEVENT
BEGIN:VEVENT
DTSTART;TZID=UTC:20210225T143000
DTEND;TZID=UTC:20210225T160000
DTSTAMP:20260423T155043
CREATED:20201229T010726Z
LAST-MODIFIED:20210204T163729Z
UID:7370-1614263400-1614268800@chrcsf.org
SUMMARY:A Deeper Understanding of the Ear: Hearing & Tinnitus
DESCRIPTION:Presenters: Jennifer Henderson Sabes\, Au.D. and Shu-En A. Lim\, Au.D (University of the Pacific\, Hearing and Balance Center) \nDoctors Henderson-Sabes and Lim present information about the ear-brain system. They will discuss the system’s role in coding and decoding sounds in our environment along with the development of tinnitus. \nThe doctors will also discuss new advancements in hearing device technology that aim to help deficits in the ear-brain system. \nRegister
URL:https://chrcsf.org/event/a-deeper-understanding-of-the-ear-hearing-tinnitus/
LOCATION:CHRC Zoom Webinar
CATEGORIES:Lecture,Workshop
ATTACH;FMTTYPE=image/jpeg:https://chrcsf.org/wp-content/uploads/hearing-infographic-dr-visit.jpg
END:VEVENT
END:VCALENDAR