BEGIN:VCALENDAR
VERSION:2.0
PRODID:-//Community Health Resource Center - ECPv6.6.4.2//NONSGML v1.0//EN
CALSCALE:GREGORIAN
METHOD:PUBLISH
X-WR-CALNAME:Community Health Resource Center
X-ORIGINAL-URL:https://chrcsf.org
X-WR-CALDESC:Events for Community Health Resource Center
REFRESH-INTERVAL;VALUE=DURATION:PT1H
X-Robots-Tag:noindex
X-PUBLISHED-TTL:PT1H
BEGIN:VTIMEZONE
TZID:America/Los_Angeles
BEGIN:DAYLIGHT
TZOFFSETFROM:-0800
TZOFFSETTO:-0700
TZNAME:PDT
DTSTART:20220313T100000
END:DAYLIGHT
BEGIN:STANDARD
TZOFFSETFROM:-0700
TZOFFSETTO:-0800
TZNAME:PST
DTSTART:20221106T090000
END:STANDARD
END:VTIMEZONE
BEGIN:VEVENT
DTSTART;TZID=America/Los_Angeles:20220601T130000
DTEND;TZID=America/Los_Angeles:20220601T150000
DTSTAMP:20260420T221402
CREATED:20220105T212158Z
LAST-MODIFIED:20220105T212158Z
UID:7844-1654088400-1654095600@chrcsf.org
SUMMARY:FREE Health Screening: Chinatown YMCA
DESCRIPTION:FREE health screenings are offered at the following San Francisco locations on a walk-in basis\nto all community members. Tests include total cholesterol\, glucose\, and blood pressure.\nResults are ready within 10 minutes. Wait times may vary.
URL:https://chrcsf.org/event/free-health-screening-chinatown-ymca-7/
LOCATION:Chinatown YMCA\, 855 Sacramento St.\, San Francisco\, CA\, 94108\, United States
CATEGORIES:Health Screening
ATTACH;FMTTYPE=image/png:https://chrcsf.org/wp-content/uploads/2022-Calendar-Images-11.png
END:VEVENT
BEGIN:VEVENT
DTSTART;TZID=America/Los_Angeles:20220603T093000
DTEND;TZID=America/Los_Angeles:20220603T113000
DTSTAMP:20260420T221402
CREATED:20220105T234418Z
LAST-MODIFIED:20220105T234804Z
UID:7876-1654248600-1654255800@chrcsf.org
SUMMARY:FREE Health Screening: Mission Neighborhood Center(MNC)
DESCRIPTION:FREE health screenings are offered at the following San Francisco locations on a walk-in basis\nto all community members. Tests include total cholesterol\, glucose\, and blood pressure.\nResults are ready within 10 minutes. Wait times may vary.
URL:https://chrcsf.org/event/free-health-screening-mission-neighborhood-centermnc-8/
LOCATION:Mission Neighborhood Centers\, 362 Capp Street\, San Francisco\, 94110\, United States
CATEGORIES:Health Screening
ATTACH;FMTTYPE=image/png:https://chrcsf.org/wp-content/uploads/2022-Calendar-Images-11.png
END:VEVENT
BEGIN:VEVENT
DTSTART;TZID=America/Los_Angeles:20220607T100000
DTEND;TZID=America/Los_Angeles:20220607T120000
DTSTAMP:20260420T221402
CREATED:20220105T231456Z
LAST-MODIFIED:20220105T231456Z
UID:7864-1654596000-1654603200@chrcsf.org
SUMMARY:FREE Health Screening: Stonestown YMCA
DESCRIPTION:FREE health screenings are offered at the following San Francisco locations on a walk-in basis\nto all community members. Tests include total cholesterol\, glucose\, and blood pressure. \nResults are ready within 10 minutes. Wait times may vary.
URL:https://chrcsf.org/event/free-health-screening-stonestown-ymca-5/
LOCATION:Stonestown YMCA
CATEGORIES:Health Screening
ATTACH;FMTTYPE=image/png:https://chrcsf.org/wp-content/uploads/2022-Calendar-Images-11.png
END:VEVENT
BEGIN:VEVENT
DTSTART;TZID=America/Los_Angeles:20220608T100000
DTEND;TZID=America/Los_Angeles:20220608T120000
DTSTAMP:20260420T221402
CREATED:20220105T223456Z
LAST-MODIFIED:20220105T223456Z
UID:7857-1654682400-1654689600@chrcsf.org
SUMMARY:FREE Health Screening: Pacific Professional Building
DESCRIPTION:FREE health screenings are offered at the following San Francisco locations on a walk-in basis\nto all community members. Tests include total cholesterol\, glucose\, and blood pressure.\nResults are ready within 10 minutes. Wait times may vary.
URL:https://chrcsf.org/event/free-health-screening-pacific-professional-building-10/
LOCATION:Pacific Professional Building\, Room 106\, 2100 Webster Street\, San Francisco\, CA\, 94115
CATEGORIES:Health Screening
ATTACH;FMTTYPE=image/png:https://chrcsf.org/wp-content/uploads/2022-Calendar-Images-11.png
END:VEVENT
BEGIN:VEVENT
DTSTART;TZID=America/Los_Angeles:20220609T100000
DTEND;TZID=America/Los_Angeles:20220609T120000
DTSTAMP:20260420T221402
CREATED:20220106T000541Z
LAST-MODIFIED:20220106T000541Z
UID:7885-1654768800-1654776000@chrcsf.org
SUMMARY:FREE Health Clinic: MNC Quesada Campus
DESCRIPTION:FREE health screenings are offered at the following San Francisco locations on a walk-in basis\nto all community members. Tests include total cholesterol\, glucose\, and blood pressure.\nResults are ready within 10 minutes. Wait times may vary.
URL:https://chrcsf.org/event/free-health-clinic-mnc-quesada-campus-4/
LOCATION:MNC Quesada Campus\, 1311 Quesada Avenue\, San Francisco\, CA\, United States
CATEGORIES:Health Screening
ATTACH;FMTTYPE=image/png:https://chrcsf.org/wp-content/uploads/2022-Calendar-Images-11.png
END:VEVENT
BEGIN:VEVENT
DTSTART;TZID=America/Los_Angeles:20220613T153000
DTEND;TZID=America/Los_Angeles:20220613T170000
DTSTAMP:20260420T221402
CREATED:20220603T173231Z
LAST-MODIFIED:20220603T175253Z
UID:7933-1655134200-1655139600@chrcsf.org
SUMMARY:Sleep\, Night Owls\, and Morning Larks: Understanding Sleep Health and the Influence of Chronotype
DESCRIPTION:Speaker: Natalie Solomon\, PsyD (Stanford University School of Medicine)\n  \n\nRegister\n  \nJoin us to learn about sleep and chronotype. We will also cover how to improve your sleep and when to seek extra support. \nDr. Natalie Solomon is a licensed psychologist and Clinical Assistant Professor in the Department of Psychiatry & Behavioral Sciences at Stanford University School of Medicine. Dr. Solomon spends about half her time treating sleep disorders in the Stanford Sleep Health and Insomnia Program (SHIP) and the other half of her time researching sleep in the Computational Psychiatry\, Neuroimaging\, and Sleep Lab (CoPsyn Sleep Lab). Dr. Solomon’s clinical interests include the intersection of sleep difficulties with overall quality of life\, women’s health\, and mood disorders. \n  \nZoom ID: 832 4971 1084
URL:https://chrcsf.org/event/sleep-night-owls-and-morning-larks-understanding-sleep-health-and-the-influence-of-chronotype/
LOCATION:CHRC Zoom Webinar
CATEGORIES:Lecture
ATTACH;FMTTYPE=image/png:https://chrcsf.org/wp-content/uploads/alarm-clock-person-sleeping.png
END:VEVENT
BEGIN:VEVENT
DTSTART;TZID=America/Los_Angeles:20220615T130000
DTEND;TZID=America/Los_Angeles:20220615T150000
DTSTAMP:20260420T221402
CREATED:20220105T212418Z
LAST-MODIFIED:20220105T212418Z
UID:7845-1655298000-1655305200@chrcsf.org
SUMMARY:FREE Health Screening: Chinatown YMCA
DESCRIPTION:FREE health screenings are offered at the following San Francisco locations on a walk-in basis\nto all community members. Tests include total cholesterol\, glucose\, and blood pressure.\nResults are ready within 10 minutes. Wait times may vary.\n 
URL:https://chrcsf.org/event/free-health-screening-chinatown-ymca-8/
LOCATION:Chinatown YMCA\, 855 Sacramento St.\, San Francisco\, CA\, 94108\, United States
CATEGORIES:Health Screening
ATTACH;FMTTYPE=image/png:https://chrcsf.org/wp-content/uploads/2022-Calendar-Images-11.png
END:VEVENT
BEGIN:VEVENT
DTSTART;TZID=America/Los_Angeles:20220617T093000
DTEND;TZID=America/Los_Angeles:20220617T113000
DTSTAMP:20260420T221402
CREATED:20220105T235002Z
LAST-MODIFIED:20220105T235002Z
UID:7878-1655458200-1655465400@chrcsf.org
SUMMARY:FREE Health Screening: Mission Neighborhood Center(MNC)
DESCRIPTION:
URL:https://chrcsf.org/event/free-health-screening-mission-neighborhood-centermnc-9/
LOCATION:Mission Neighborhood Centers\, 362 Capp Street\, San Francisco\, 94110\, United States
CATEGORIES:Health Screening
ATTACH;FMTTYPE=image/png:https://chrcsf.org/wp-content/uploads/2022-Calendar-Images-11.png
END:VEVENT
BEGIN:VEVENT
DTSTART;TZID=America/Los_Angeles:20220630T153000
DTEND;TZID=America/Los_Angeles:20220630T170000
DTSTAMP:20260420T221402
CREATED:20220603T180011Z
LAST-MODIFIED:20220606T225353Z
UID:7937-1656603000-1656608400@chrcsf.org
SUMMARY:Managing Diabetes: Practical Modern Tips for Blood Sugar Control
DESCRIPTION:Speaker: Diabetes Nurse Educator\n\nRegister\n  \nDo you struggle to find the motivation to adhere to your diabetes schedule\, or the willpower to follow all the “rules”? \nCome join the conversation about living gracefully with diabetes. Our speaker has 30 years of experience motivating people to improve their health and outlook on diabetes management. \n  \nZoom ID: 895 0562 3243
URL:https://chrcsf.org/event/managing-diabetes-practical-modern-tips-for-blood-sugar-control-tursday/
LOCATION:CHRC Zoom Webinar
CATEGORIES:Group Class,Lecture,Workshop
ATTACH;FMTTYPE=image/png:https://chrcsf.org/wp-content/uploads/hand-holding-glucose-meter.png
END:VEVENT
END:VCALENDAR