BEGIN:VCALENDAR
VERSION:2.0
PRODID:-//Community Health Resource Center - ECPv6.6.4.2//NONSGML v1.0//EN
CALSCALE:GREGORIAN
METHOD:PUBLISH
X-ORIGINAL-URL:https://chrcsf.org
X-WR-CALDESC:Events for Community Health Resource Center
REFRESH-INTERVAL;VALUE=DURATION:PT1H
X-Robots-Tag:noindex
X-PUBLISHED-TTL:PT1H
BEGIN:VTIMEZONE
TZID:UTC
BEGIN:STANDARD
TZOFFSETFROM:+0000
TZOFFSETTO:+0000
TZNAME:UTC
DTSTART:20230101T000000
END:STANDARD
TZID:America/Los_Angeles
BEGIN:DAYLIGHT
TZOFFSETFROM:-0800
TZOFFSETTO:-0700
TZNAME:PDT
DTSTART:20230312T100000
END:DAYLIGHT
BEGIN:STANDARD
TZOFFSETFROM:-0700
TZOFFSETTO:-0800
TZNAME:PST
DTSTART:20231105T090000
END:STANDARD
END:VTIMEZONE
BEGIN:VEVENT
DTSTART;TZID=UTC:20230404T100000
DTEND;TZID=UTC:20230404T120000
DTSTAMP:20260422T133159
CREATED:20230222T183400Z
LAST-MODIFIED:20230222T183400Z
UID:8167-1680602400-1680609600@chrcsf.org
SUMMARY:Health Screening @ Stonestown YMCA
DESCRIPTION:Free health screenings are offered on a walk-in basis and is open to all community members. Tests provided include blood glucose\, total cholesterol\, and blood pressure. \n*Events are subject to change without notice \n  \n  \nHealth screenings are made possible through the support of Chevron.\nFor more information\, contact us at info@chrcsf.org.
URL:https://chrcsf.org/event/hs20230404/
LOCATION:Stonestown YMCA
CATEGORIES:Health Screening
ATTACH;FMTTYPE=image/png:https://chrcsf.org/wp-content/uploads/2022-Calendar-Images-11.png
END:VEVENT
BEGIN:VEVENT
DTSTART;TZID=UTC:20230407T093000
DTEND;TZID=UTC:20230407T113000
DTSTAMP:20260422T133159
CREATED:20230222T234111Z
LAST-MODIFIED:20230222T234111Z
UID:8187-1680859800-1680867000@chrcsf.org
SUMMARY:Health Screening @ Mission Neighborhood Centers
DESCRIPTION:Free health screenings are offered on a walk-in basis and is open to all community members. Tests provided include blood glucose\, total cholesterol\, and blood pressure. \n*Events are subject to change without notice \n  \n  \nHealth screenings are made possible through the support of Chevron.\nFor more information\, contact us at info@chrcsf.org.
URL:https://chrcsf.org/event/hs20230407/
LOCATION:Mission Neighborhood Centers\, 362 Capp Street\, San Francisco\, 94110\, United States
CATEGORIES:Health Screening
ATTACH;FMTTYPE=image/png:https://chrcsf.org/wp-content/uploads/2022-Calendar-Images-11.png
END:VEVENT
BEGIN:VEVENT
DTSTART;TZID=UTC:20230418T100000
DTEND;TZID=UTC:20230418T120000
DTSTAMP:20260422T133159
CREATED:20230222T183511Z
LAST-MODIFIED:20230222T183511Z
UID:8168-1681812000-1681819200@chrcsf.org
SUMMARY:Health Screening @ Stonestown YMCA
DESCRIPTION:Free health screenings are offered on a walk-in basis and is open to all community members. Tests provided include blood glucose\, total cholesterol\, and blood pressure. \n*Events are subject to change without notice \n  \n  \nHealth screenings are made possible through the support of Chevron.\nFor more information\, contact us at info@chrcsf.org.
URL:https://chrcsf.org/event/health-screening-stonestown-ymca-5/
LOCATION:Stonestown YMCA
CATEGORIES:Health Screening
ATTACH;FMTTYPE=image/png:https://chrcsf.org/wp-content/uploads/2022-Calendar-Images-11.png
END:VEVENT
BEGIN:VEVENT
DTSTART;TZID=UTC:20230419T110000
DTEND;TZID=UTC:20230419T130000
DTSTAMP:20260422T133159
CREATED:20230222T232649Z
LAST-MODIFIED:20230222T232706Z
UID:8178-1681902000-1681909200@chrcsf.org
SUMMARY:Health Screening @ Chinatown YMCA
DESCRIPTION:Free health screenings are offered on a walk-in basis and is open to all community members. Tests provided include blood glucose\, total cholesterol\, and blood pressure. \n*Events are subject to change without notice \n  \n  \nHealth screenings are made possible through the support of Chevron.\nFor more information\, contact us at info@chrcsf.org.
URL:https://chrcsf.org/event/hs20230419/
LOCATION:Chinatown YMCA\, 855 Sacramento St.\, San Francisco\, CA\, 94108\, United States
CATEGORIES:Health Screening
ATTACH;FMTTYPE=image/png:https://chrcsf.org/wp-content/uploads/2022-Calendar-Images-11.png
END:VEVENT
BEGIN:VEVENT
DTSTART;TZID=UTC:20230421T093000
DTEND;TZID=UTC:20230421T113000
DTSTAMP:20260422T133159
CREATED:20230222T235415Z
LAST-MODIFIED:20230222T235415Z
UID:8188-1682069400-1682076600@chrcsf.org
SUMMARY:Health Screening @ Mission Neighborhood Centers
DESCRIPTION:Free health screenings are offered on a walk-in basis and is open to all community members. Tests provided include blood glucose\, total cholesterol\, and blood pressure. \n*Events are subject to change without notice \n  \n  \nHealth screenings are made possible through the support of Chevron.\nFor more information\, contact us at info@chrcsf.org.
URL:https://chrcsf.org/event/hs20230421/
LOCATION:Mission Neighborhood Centers\, 362 Capp Street\, San Francisco\, 94110\, United States
CATEGORIES:Health Screening
ATTACH;FMTTYPE=image/png:https://chrcsf.org/wp-content/uploads/2022-Calendar-Images-11.png
END:VEVENT
BEGIN:VEVENT
DTSTART;TZID=America/Los_Angeles:20230427T114500
DTEND;TZID=America/Los_Angeles:20230427T134500
DTSTAMP:20260422T133159
CREATED:20230222T233332Z
LAST-MODIFIED:20230222T233332Z
UID:8182-1682595900-1682603100@chrcsf.org
SUMMARY:Health Screening @ Mission YMCA
DESCRIPTION:Free health screenings are offered on a walk-in basis and is open to all community members. Tests provided include blood glucose\, total cholesterol\, and blood pressure. \n*Events are subject to change without notice \n  \n  \nHealth screenings are made possible through the support of Chevron.\nFor more information\, contact us at info@chrcsf.org.
URL:https://chrcsf.org/event/hs20230427/
LOCATION:Mission YMCA\, 4080 Mission Street\, San Francisco\, CA\, United States
CATEGORIES:Health Screening
ATTACH;FMTTYPE=image/png:https://chrcsf.org/wp-content/uploads/2022-Calendar-Images-11.png
END:VEVENT
END:VCALENDAR