BEGIN:VCALENDAR
VERSION:2.0
PRODID:-//Community Health Resource Center - ECPv6.6.4.2//NONSGML v1.0//EN
CALSCALE:GREGORIAN
METHOD:PUBLISH
X-ORIGINAL-URL:https://chrcsf.org
X-WR-CALDESC:Events for Community Health Resource Center
REFRESH-INTERVAL;VALUE=DURATION:PT1H
X-Robots-Tag:noindex
X-PUBLISHED-TTL:PT1H
BEGIN:VTIMEZONE
TZID:America/Los_Angeles
BEGIN:DAYLIGHT
TZOFFSETFROM:-0800
TZOFFSETTO:-0700
TZNAME:PDT
DTSTART:20230312T100000
END:DAYLIGHT
BEGIN:STANDARD
TZOFFSETFROM:-0700
TZOFFSETTO:-0800
TZNAME:PST
DTSTART:20231105T090000
END:STANDARD
TZID:UTC
BEGIN:STANDARD
TZOFFSETFROM:+0000
TZOFFSETTO:+0000
TZNAME:UTC
DTSTART:20230101T000000
END:STANDARD
END:VTIMEZONE
BEGIN:VEVENT
DTSTART;TZID=America/Los_Angeles:20230602T093000
DTEND;TZID=America/Los_Angeles:20230602T113000
DTSTAMP:20260423T015313
CREATED:20230222T235846Z
LAST-MODIFIED:20230222T235846Z
UID:8191-1685698200-1685705400@chrcsf.org
SUMMARY:Health Screening @ Mission Neighborhood Centers
DESCRIPTION:Free health screenings are offered on a walk-in basis and is open to all community members. Tests provided include blood glucose\, total cholesterol\, and blood pressure. \n*Events are subject to change without notice \n  \n  \nHealth screenings are made possible through the support of Chevron.\nFor more information\, contact us at info@chrcsf.org.
URL:https://chrcsf.org/event/hs20230602/
LOCATION:Mission Neighborhood Centers\, 362 Capp Street\, San Francisco\, 94110\, United States
CATEGORIES:Health Screening
ATTACH;FMTTYPE=image/png:https://chrcsf.org/wp-content/uploads/2022-Calendar-Images-11.png
END:VEVENT
BEGIN:VEVENT
DTSTART;TZID=UTC:20230606T100000
DTEND;TZID=UTC:20230606T120000
DTSTAMP:20260423T015313
CREATED:20230222T184215Z
LAST-MODIFIED:20230222T184215Z
UID:8174-1686045600-1686052800@chrcsf.org
SUMMARY:Health Screening @ Stonestown YMCA
DESCRIPTION:Free health screenings are offered on a walk-in basis and is open to all community members. Tests provided include blood glucose\, total cholesterol\, and blood pressure. \n*Events are subject to change without notice \n  \n  \nHealth screenings are made possible through the support of Chevron.\nFor more information\, contact us at info@chrcsf.org.
URL:https://chrcsf.org/event/hs20230606/
LOCATION:Stonestown YMCA
CATEGORIES:Health Screening
ATTACH;FMTTYPE=image/png:https://chrcsf.org/wp-content/uploads/2022-Calendar-Images-11.png
END:VEVENT
BEGIN:VEVENT
DTSTART;TZID=UTC:20230616T093000
DTEND;TZID=UTC:20230616T113000
DTSTAMP:20260423T015313
CREATED:20230223T000006Z
LAST-MODIFIED:20230223T000006Z
UID:8192-1686907800-1686915000@chrcsf.org
SUMMARY:Health Screening @ Mission Neighborhood Centers
DESCRIPTION:Free health screenings are offered on a walk-in basis and is open to all community members. Tests provided include blood glucose\, total cholesterol\, and blood pressure. \n*Events are subject to change without notice \n  \n  \nHealth screenings are made possible through the support of Chevron.\nFor more information\, contact us at info@chrcsf.org.
URL:https://chrcsf.org/event/hs20230616/
LOCATION:Mission Neighborhood Centers\, 362 Capp Street\, San Francisco\, 94110\, United States
CATEGORIES:Health Screening
ATTACH;FMTTYPE=image/png:https://chrcsf.org/wp-content/uploads/2022-Calendar-Images-11.png
END:VEVENT
BEGIN:VEVENT
DTSTART;TZID=UTC:20230620T100000
DTEND;TZID=UTC:20230620T120000
DTSTAMP:20260423T015313
CREATED:20230222T184338Z
LAST-MODIFIED:20230222T184407Z
UID:8175-1687255200-1687262400@chrcsf.org
SUMMARY:Health Screening @ Stonestown YMCA
DESCRIPTION:Free health screenings are offered on a walk-in basis and is open to all community members. Tests provided include blood glucose\, total cholesterol\, and blood pressure. \n*Events are subject to change without notice \n  \n  \nHealth screenings are made possible through the support of Chevron.\nFor more information\, contact us at info@chrcsf.org.
URL:https://chrcsf.org/event/hs20230620/
LOCATION:Stonestown YMCA
CATEGORIES:Health Screening
ATTACH;FMTTYPE=image/png:https://chrcsf.org/wp-content/uploads/2022-Calendar-Images-11.png
END:VEVENT
BEGIN:VEVENT
DTSTART;TZID=UTC:20230622T114500
DTEND;TZID=UTC:20230622T134500
DTSTAMP:20260423T015313
CREATED:20230222T233548Z
LAST-MODIFIED:20230222T233600Z
UID:8184-1687434300-1687441500@chrcsf.org
SUMMARY:Health Screening @ Mission YMCA
DESCRIPTION:Free health screenings are offered on a walk-in basis and is open to all community members. Tests provided include blood glucose\, total cholesterol\, and blood pressure. \n*Events are subject to change without notice \n  \n  \nHealth screenings are made possible through the support of Chevron.\nFor more information\, contact us at info@chrcsf.org.
URL:https://chrcsf.org/event/hs20230622/
LOCATION:Mission YMCA\, 4080 Mission Street\, San Francisco\, CA\, United States
CATEGORIES:Health Screening
ATTACH;FMTTYPE=image/png:https://chrcsf.org/wp-content/uploads/2022-Calendar-Images-11.png
END:VEVENT
END:VCALENDAR